BEGIN:VCALENDAR
VERSION:2.0
PRODID:-//Vail Racquet Club - ECPv6.15.20//NONSGML v1.0//EN
CALSCALE:GREGORIAN
METHOD:PUBLISH
X-WR-CALNAME:Vail Racquet Club
X-ORIGINAL-URL:https://vailracquetclub.com
X-WR-CALDESC:Events for Vail Racquet Club
REFRESH-INTERVAL;VALUE=DURATION:PT1H
X-Robots-Tag:noindex
X-PUBLISHED-TTL:PT1H
BEGIN:VTIMEZONE
TZID:America/New_York
BEGIN:DAYLIGHT
TZOFFSETFROM:-0500
TZOFFSETTO:-0400
TZNAME:EDT
DTSTART:20250309T070000
END:DAYLIGHT
BEGIN:STANDARD
TZOFFSETFROM:-0400
TZOFFSETTO:-0500
TZNAME:EST
DTSTART:20251102T060000
END:STANDARD
BEGIN:DAYLIGHT
TZOFFSETFROM:-0500
TZOFFSETTO:-0400
TZNAME:EDT
DTSTART:20260308T070000
END:DAYLIGHT
BEGIN:STANDARD
TZOFFSETFROM:-0400
TZOFFSETTO:-0500
TZNAME:EST
DTSTART:20261101T060000
END:STANDARD
BEGIN:DAYLIGHT
TZOFFSETFROM:-0500
TZOFFSETTO:-0400
TZNAME:EDT
DTSTART:20270314T070000
END:DAYLIGHT
BEGIN:STANDARD
TZOFFSETFROM:-0400
TZOFFSETTO:-0500
TZNAME:EST
DTSTART:20271107T060000
END:STANDARD
END:VTIMEZONE
BEGIN:VEVENT
DTSTART;TZID=America/New_York:20260309T083000
DTEND;TZID=America/New_York:20260309T093000
DTSTAMP:20260421T213639
CREATED:20260204T165808Z
LAST-MODIFIED:20260204T165808Z
UID:10001851-1773045000-1773048600@vailracquetclub.com
SUMMARY:Stretch & Roll (Sally)
DESCRIPTION:
URL:https://vailracquetclub.com/event/stretch-roll-sally-2/2026-03-09/
ATTACH;FMTTYPE=image/jpeg:https://vailracquetclub.com/wp-content/uploads/yoga-1146277_1280.jpg
END:VEVENT
BEGIN:VEVENT
DTSTART;TZID=America/New_York:20260309T063000
DTEND;TZID=America/New_York:20260309T073000
DTSTAMP:20260421T213639
CREATED:20250804T190252Z
LAST-MODIFIED:20251119T132740Z
UID:10001129-1773037800-1773041400@vailracquetclub.com
SUMMARY:Masters Swim (Katie)
DESCRIPTION:
URL:https://vailracquetclub.com/event/masters-swim-katie/2026-03-09/
ATTACH;FMTTYPE=image/jpeg:https://vailracquetclub.com/wp-content/uploads/swimming-3828274_1280.jpg
END:VEVENT
BEGIN:VEVENT
DTSTART;TZID=America/New_York:20260308T080000
DTEND;TZID=America/New_York:20260308T090000
DTSTAMP:20260421T213639
CREATED:20260204T171520Z
LAST-MODIFIED:20260204T171520Z
UID:10005427-1772956800-1772960400@vailracquetclub.com
SUMMARY:Barre (Madeline)
DESCRIPTION:
URL:https://vailracquetclub.com/event/barre-madeline/2026-03-08/
END:VEVENT
BEGIN:VEVENT
DTSTART;TZID=America/New_York:20260307T083000
DTEND;TZID=America/New_York:20260307T093000
DTSTAMP:20260421T213639
CREATED:20260204T171246Z
LAST-MODIFIED:20260204T171341Z
UID:10004910-1772872200-1772875800@vailracquetclub.com
SUMMARY:Pilates Mat (Patti)
DESCRIPTION:
URL:https://vailracquetclub.com/event/pilates-mat-patti-2/2026-03-07/
END:VEVENT
BEGIN:VEVENT
DTSTART;TZID=America/New_York:20260306T063000
DTEND;TZID=America/New_York:20260306T073000
DTSTAMP:20260421T213639
CREATED:20250804T190252Z
LAST-MODIFIED:20251119T132740Z
UID:10001128-1772778600-1772782200@vailracquetclub.com
SUMMARY:Masters Swim (Katie)
DESCRIPTION:
URL:https://vailracquetclub.com/event/masters-swim-katie/2026-03-06/
ATTACH;FMTTYPE=image/jpeg:https://vailracquetclub.com/wp-content/uploads/swimming-3828274_1280.jpg
END:VEVENT
BEGIN:VEVENT
DTSTART;TZID=America/New_York:20260305T173000
DTEND;TZID=America/New_York:20260305T183000
DTSTAMP:20260421T213639
CREATED:20260204T170048Z
LAST-MODIFIED:20260204T170446Z
UID:10004372-1772731800-1772735400@vailracquetclub.com
SUMMARY:Yoga (Betsy)
DESCRIPTION:
URL:https://vailracquetclub.com/event/yoga-betsy-2/2026-03-05/
ATTACH;FMTTYPE=image/jpeg:https://vailracquetclub.com/wp-content/uploads/woman-2573216_1280.jpg
END:VEVENT
BEGIN:VEVENT
DTSTART;TZID=America/New_York:20260305T163000
DTEND;TZID=America/New_York:20260305T173000
DTSTAMP:20260421T213639
CREATED:20260204T171651Z
LAST-MODIFIED:20260204T171651Z
UID:10005693-1772728200-1772731800@vailracquetclub.com
SUMMARY:TRX (Betsy)
DESCRIPTION:
URL:https://vailracquetclub.com/event/trx-betsy/2026-03-05/
END:VEVENT
BEGIN:VEVENT
DTSTART;TZID=America/New_York:20260304T180000
DTEND;TZID=America/New_York:20260304T190000
DTSTAMP:20260421T213639
CREATED:20260204T171003Z
LAST-MODIFIED:20260204T171044Z
UID:10004644-1772647200-1772650800@vailracquetclub.com
SUMMARY:Yoga (Noah)
DESCRIPTION:
URL:https://vailracquetclub.com/event/yoga-noah/2026-03-04/
END:VEVENT
BEGIN:VEVENT
DTSTART;TZID=America/New_York:20260304T083000
DTEND;TZID=America/New_York:20260304T093000
DTSTAMP:20260421T213639
CREATED:20260204T171246Z
LAST-MODIFIED:20260204T171341Z
UID:10004909-1772613000-1772616600@vailracquetclub.com
SUMMARY:Pilates Mat (Patti)
DESCRIPTION:
URL:https://vailracquetclub.com/event/pilates-mat-patti-2/2026-03-04/
END:VEVENT
BEGIN:VEVENT
DTSTART;TZID=America/New_York:20260304T063000
DTEND;TZID=America/New_York:20260304T073000
DTSTAMP:20260421T213639
CREATED:20250804T190252Z
LAST-MODIFIED:20251119T132740Z
UID:10001127-1772605800-1772609400@vailracquetclub.com
SUMMARY:Masters Swim (Katie)
DESCRIPTION:
URL:https://vailracquetclub.com/event/masters-swim-katie/2026-03-04/
ATTACH;FMTTYPE=image/jpeg:https://vailracquetclub.com/wp-content/uploads/swimming-3828274_1280.jpg
END:VEVENT
BEGIN:VEVENT
DTSTART;TZID=America/New_York:20260303T163000
DTEND;TZID=America/New_York:20260303T173000
DTSTAMP:20260421T213639
CREATED:20260204T171651Z
LAST-MODIFIED:20260204T171651Z
UID:10005692-1772555400-1772559000@vailracquetclub.com
SUMMARY:TRX (Betsy)
DESCRIPTION:
URL:https://vailracquetclub.com/event/trx-betsy/2026-03-03/
END:VEVENT
BEGIN:VEVENT
DTSTART;TZID=America/New_York:20260303T090000
DTEND;TZID=America/New_York:20260303T100000
DTSTAMP:20260421T213639
CREATED:20260204T171844Z
LAST-MODIFIED:20260204T171844Z
UID:10006211-1772528400-1772532000@vailracquetclub.com
SUMMARY:Yoga (Kelly)
DESCRIPTION:
URL:https://vailracquetclub.com/event/yoga-kelly/2026-03-03/
END:VEVENT
BEGIN:VEVENT
DTSTART;TZID=America/New_York:20260302T083000
DTEND;TZID=America/New_York:20260302T093000
DTSTAMP:20260421T213639
CREATED:20260204T165808Z
LAST-MODIFIED:20260204T165808Z
UID:10001850-1772440200-1772443800@vailracquetclub.com
SUMMARY:Stretch & Roll (Sally)
DESCRIPTION:
URL:https://vailracquetclub.com/event/stretch-roll-sally-2/2026-03-02/
ATTACH;FMTTYPE=image/jpeg:https://vailracquetclub.com/wp-content/uploads/yoga-1146277_1280.jpg
END:VEVENT
BEGIN:VEVENT
DTSTART;TZID=America/New_York:20260302T063000
DTEND;TZID=America/New_York:20260302T073000
DTSTAMP:20260421T213639
CREATED:20250804T190252Z
LAST-MODIFIED:20251119T132740Z
UID:10001126-1772433000-1772436600@vailracquetclub.com
SUMMARY:Masters Swim (Katie)
DESCRIPTION:
URL:https://vailracquetclub.com/event/masters-swim-katie/2026-03-02/
ATTACH;FMTTYPE=image/jpeg:https://vailracquetclub.com/wp-content/uploads/swimming-3828274_1280.jpg
END:VEVENT
BEGIN:VEVENT
DTSTART;TZID=America/New_York:20260301T080000
DTEND;TZID=America/New_York:20260301T090000
DTSTAMP:20260421T213639
CREATED:20260204T171520Z
LAST-MODIFIED:20260204T171520Z
UID:10005426-1772352000-1772355600@vailracquetclub.com
SUMMARY:Barre (Madeline)
DESCRIPTION:
URL:https://vailracquetclub.com/event/barre-madeline/2026-03-01/
END:VEVENT
BEGIN:VEVENT
DTSTART;TZID=America/New_York:20260228T083000
DTEND;TZID=America/New_York:20260228T093000
DTSTAMP:20260421T213639
CREATED:20260204T171246Z
LAST-MODIFIED:20260204T171341Z
UID:10004908-1772267400-1772271000@vailracquetclub.com
SUMMARY:Pilates Mat (Patti)
DESCRIPTION:
URL:https://vailracquetclub.com/event/pilates-mat-patti-2/2026-02-28/
END:VEVENT
BEGIN:VEVENT
DTSTART;TZID=America/New_York:20260227T063000
DTEND;TZID=America/New_York:20260227T073000
DTSTAMP:20260421T213639
CREATED:20250804T190252Z
LAST-MODIFIED:20251119T132740Z
UID:10001125-1772173800-1772177400@vailracquetclub.com
SUMMARY:Masters Swim (Katie)
DESCRIPTION:
URL:https://vailracquetclub.com/event/masters-swim-katie/2026-02-27/
ATTACH;FMTTYPE=image/jpeg:https://vailracquetclub.com/wp-content/uploads/swimming-3828274_1280.jpg
END:VEVENT
BEGIN:VEVENT
DTSTART;TZID=America/New_York:20260226T173000
DTEND;TZID=America/New_York:20260226T183000
DTSTAMP:20260421T213639
CREATED:20260204T170048Z
LAST-MODIFIED:20260204T170446Z
UID:10004371-1772127000-1772130600@vailracquetclub.com
SUMMARY:Yoga (Betsy)
DESCRIPTION:
URL:https://vailracquetclub.com/event/yoga-betsy-2/2026-02-26/
ATTACH;FMTTYPE=image/jpeg:https://vailracquetclub.com/wp-content/uploads/woman-2573216_1280.jpg
END:VEVENT
BEGIN:VEVENT
DTSTART;TZID=America/New_York:20260226T163000
DTEND;TZID=America/New_York:20260226T173000
DTSTAMP:20260421T213639
CREATED:20260204T171651Z
LAST-MODIFIED:20260204T171651Z
UID:10005691-1772123400-1772127000@vailracquetclub.com
SUMMARY:TRX (Betsy)
DESCRIPTION:
URL:https://vailracquetclub.com/event/trx-betsy/2026-02-26/
END:VEVENT
BEGIN:VEVENT
DTSTART;TZID=America/New_York:20260225T180000
DTEND;TZID=America/New_York:20260225T190000
DTSTAMP:20260421T213639
CREATED:20260204T171003Z
LAST-MODIFIED:20260204T171044Z
UID:10004643-1772042400-1772046000@vailracquetclub.com
SUMMARY:Yoga (Noah)
DESCRIPTION:
URL:https://vailracquetclub.com/event/yoga-noah/2026-02-25/
END:VEVENT
BEGIN:VEVENT
DTSTART;TZID=America/New_York:20260225T083000
DTEND;TZID=America/New_York:20260225T093000
DTSTAMP:20260421T213639
CREATED:20260204T171246Z
LAST-MODIFIED:20260204T171341Z
UID:10004907-1772008200-1772011800@vailracquetclub.com
SUMMARY:Pilates Mat (Patti)
DESCRIPTION:
URL:https://vailracquetclub.com/event/pilates-mat-patti-2/2026-02-25/
END:VEVENT
BEGIN:VEVENT
DTSTART;TZID=America/New_York:20260225T063000
DTEND;TZID=America/New_York:20260225T073000
DTSTAMP:20260421T213639
CREATED:20250804T190252Z
LAST-MODIFIED:20251119T132740Z
UID:10001124-1772001000-1772004600@vailracquetclub.com
SUMMARY:Masters Swim (Katie)
DESCRIPTION:
URL:https://vailracquetclub.com/event/masters-swim-katie/2026-02-25/
ATTACH;FMTTYPE=image/jpeg:https://vailracquetclub.com/wp-content/uploads/swimming-3828274_1280.jpg
END:VEVENT
BEGIN:VEVENT
DTSTART;TZID=America/New_York:20260224T163000
DTEND;TZID=America/New_York:20260224T173000
DTSTAMP:20260421T213639
CREATED:20260204T171651Z
LAST-MODIFIED:20260204T171651Z
UID:10005690-1771950600-1771954200@vailracquetclub.com
SUMMARY:TRX (Betsy)
DESCRIPTION:
URL:https://vailracquetclub.com/event/trx-betsy/2026-02-24/
END:VEVENT
BEGIN:VEVENT
DTSTART;TZID=America/New_York:20260224T090000
DTEND;TZID=America/New_York:20260224T100000
DTSTAMP:20260421T213639
CREATED:20260204T171844Z
LAST-MODIFIED:20260204T171844Z
UID:10006210-1771923600-1771927200@vailracquetclub.com
SUMMARY:Yoga (Kelly)
DESCRIPTION:
URL:https://vailracquetclub.com/event/yoga-kelly/2026-02-24/
END:VEVENT
BEGIN:VEVENT
DTSTART;TZID=America/New_York:20260223T083000
DTEND;TZID=America/New_York:20260223T093000
DTSTAMP:20260421T213639
CREATED:20260204T165808Z
LAST-MODIFIED:20260204T165808Z
UID:10001849-1771835400-1771839000@vailracquetclub.com
SUMMARY:Stretch & Roll (Sally)
DESCRIPTION:
URL:https://vailracquetclub.com/event/stretch-roll-sally-2/2026-02-23/
ATTACH;FMTTYPE=image/jpeg:https://vailracquetclub.com/wp-content/uploads/yoga-1146277_1280.jpg
END:VEVENT
BEGIN:VEVENT
DTSTART;TZID=America/New_York:20260223T063000
DTEND;TZID=America/New_York:20260223T073000
DTSTAMP:20260421T213639
CREATED:20250804T190252Z
LAST-MODIFIED:20251119T132740Z
UID:10001123-1771828200-1771831800@vailracquetclub.com
SUMMARY:Masters Swim (Katie)
DESCRIPTION:
URL:https://vailracquetclub.com/event/masters-swim-katie/2026-02-23/
ATTACH;FMTTYPE=image/jpeg:https://vailracquetclub.com/wp-content/uploads/swimming-3828274_1280.jpg
END:VEVENT
BEGIN:VEVENT
DTSTART;TZID=America/New_York:20260222T080000
DTEND;TZID=America/New_York:20260222T090000
DTSTAMP:20260421T213639
CREATED:20260204T171520Z
LAST-MODIFIED:20260204T171520Z
UID:10005425-1771747200-1771750800@vailracquetclub.com
SUMMARY:Barre (Madeline)
DESCRIPTION:
URL:https://vailracquetclub.com/event/barre-madeline/2026-02-22/
END:VEVENT
BEGIN:VEVENT
DTSTART;TZID=America/New_York:20260221T083000
DTEND;TZID=America/New_York:20260221T093000
DTSTAMP:20260421T213639
CREATED:20260204T171246Z
LAST-MODIFIED:20260204T171341Z
UID:10004906-1771662600-1771666200@vailracquetclub.com
SUMMARY:Pilates Mat (Patti)
DESCRIPTION:
URL:https://vailracquetclub.com/event/pilates-mat-patti-2/2026-02-21/
END:VEVENT
BEGIN:VEVENT
DTSTART;TZID=America/New_York:20260220T063000
DTEND;TZID=America/New_York:20260220T073000
DTSTAMP:20260421T213639
CREATED:20250804T190252Z
LAST-MODIFIED:20251119T132740Z
UID:10001122-1771569000-1771572600@vailracquetclub.com
SUMMARY:Masters Swim (Katie)
DESCRIPTION:
URL:https://vailracquetclub.com/event/masters-swim-katie/2026-02-20/
ATTACH;FMTTYPE=image/jpeg:https://vailracquetclub.com/wp-content/uploads/swimming-3828274_1280.jpg
END:VEVENT
BEGIN:VEVENT
DTSTART;TZID=America/New_York:20260219T173000
DTEND;TZID=America/New_York:20260219T183000
DTSTAMP:20260421T213639
CREATED:20260204T170048Z
LAST-MODIFIED:20260204T170446Z
UID:10004370-1771522200-1771525800@vailracquetclub.com
SUMMARY:Yoga (Betsy)
DESCRIPTION:
URL:https://vailracquetclub.com/event/yoga-betsy-2/2026-02-19/
ATTACH;FMTTYPE=image/jpeg:https://vailracquetclub.com/wp-content/uploads/woman-2573216_1280.jpg
END:VEVENT
END:VCALENDAR