BEGIN:VCALENDAR
VERSION:2.0
PRODID:-//Vail Racquet Club - ECPv6.15.20//NONSGML v1.0//EN
CALSCALE:GREGORIAN
METHOD:PUBLISH
X-ORIGINAL-URL:https://vailracquetclub.com
X-WR-CALDESC:Events for Vail Racquet Club
REFRESH-INTERVAL;VALUE=DURATION:PT1H
X-Robots-Tag:noindex
X-PUBLISHED-TTL:PT1H
BEGIN:VTIMEZONE
TZID:America/New_York
BEGIN:DAYLIGHT
TZOFFSETFROM:-0500
TZOFFSETTO:-0400
TZNAME:EDT
DTSTART:20250309T070000
END:DAYLIGHT
BEGIN:STANDARD
TZOFFSETFROM:-0400
TZOFFSETTO:-0500
TZNAME:EST
DTSTART:20251102T060000
END:STANDARD
BEGIN:DAYLIGHT
TZOFFSETFROM:-0500
TZOFFSETTO:-0400
TZNAME:EDT
DTSTART:20260308T070000
END:DAYLIGHT
BEGIN:STANDARD
TZOFFSETFROM:-0400
TZOFFSETTO:-0500
TZNAME:EST
DTSTART:20261101T060000
END:STANDARD
BEGIN:DAYLIGHT
TZOFFSETFROM:-0500
TZOFFSETTO:-0400
TZNAME:EDT
DTSTART:20270314T070000
END:DAYLIGHT
BEGIN:STANDARD
TZOFFSETFROM:-0400
TZOFFSETTO:-0500
TZNAME:EST
DTSTART:20271107T060000
END:STANDARD
END:VTIMEZONE
BEGIN:VEVENT
DTSTART;TZID=America/New_York:20260326T163000
DTEND;TZID=America/New_York:20260326T173000
DTSTAMP:20260421T223920
CREATED:20260204T171651Z
LAST-MODIFIED:20260204T171651Z
UID:10005699-1774542600-1774546200@vailracquetclub.com
SUMMARY:TRX (Betsy)
DESCRIPTION:
URL:https://vailracquetclub.com/event/trx-betsy/2026-03-26/
END:VEVENT
BEGIN:VEVENT
DTSTART;TZID=America/New_York:20260326T173000
DTEND;TZID=America/New_York:20260326T183000
DTSTAMP:20260421T223920
CREATED:20260204T170048Z
LAST-MODIFIED:20260204T170446Z
UID:10004375-1774546200-1774549800@vailracquetclub.com
SUMMARY:Yoga (Betsy)
DESCRIPTION:
URL:https://vailracquetclub.com/event/yoga-betsy-2/2026-03-26/
ATTACH;FMTTYPE=image/jpeg:https://vailracquetclub.com/wp-content/uploads/woman-2573216_1280.jpg
END:VEVENT
BEGIN:VEVENT
DTSTART;TZID=America/New_York:20260327T063000
DTEND;TZID=America/New_York:20260327T073000
DTSTAMP:20260421T223920
CREATED:20250804T190252Z
LAST-MODIFIED:20251119T132740Z
UID:10001137-1774593000-1774596600@vailracquetclub.com
SUMMARY:Masters Swim (Katie)
DESCRIPTION:
URL:https://vailracquetclub.com/event/masters-swim-katie/2026-03-27/
ATTACH;FMTTYPE=image/jpeg:https://vailracquetclub.com/wp-content/uploads/swimming-3828274_1280.jpg
END:VEVENT
BEGIN:VEVENT
DTSTART;TZID=America/New_York:20260328T083000
DTEND;TZID=America/New_York:20260328T093000
DTSTAMP:20260421T223920
CREATED:20260204T171246Z
LAST-MODIFIED:20260204T171341Z
UID:10004916-1774686600-1774690200@vailracquetclub.com
SUMMARY:Pilates Mat (Patti)
DESCRIPTION:
URL:https://vailracquetclub.com/event/pilates-mat-patti-2/2026-03-28/
END:VEVENT
BEGIN:VEVENT
DTSTART;TZID=America/New_York:20260329T080000
DTEND;TZID=America/New_York:20260329T090000
DTSTAMP:20260421T223920
CREATED:20260204T171520Z
LAST-MODIFIED:20260204T171520Z
UID:10005430-1774771200-1774774800@vailracquetclub.com
SUMMARY:Barre (Madeline)
DESCRIPTION:
URL:https://vailracquetclub.com/event/barre-madeline/2026-03-29/
END:VEVENT
BEGIN:VEVENT
DTSTART;TZID=America/New_York:20260330T063000
DTEND;TZID=America/New_York:20260330T073000
DTSTAMP:20260421T223920
CREATED:20250804T190252Z
LAST-MODIFIED:20251119T132740Z
UID:10001138-1774852200-1774855800@vailracquetclub.com
SUMMARY:Masters Swim (Katie)
DESCRIPTION:
URL:https://vailracquetclub.com/event/masters-swim-katie/2026-03-30/
ATTACH;FMTTYPE=image/jpeg:https://vailracquetclub.com/wp-content/uploads/swimming-3828274_1280.jpg
END:VEVENT
BEGIN:VEVENT
DTSTART;TZID=America/New_York:20260330T083000
DTEND;TZID=America/New_York:20260330T093000
DTSTAMP:20260421T223920
CREATED:20260204T165808Z
LAST-MODIFIED:20260204T165808Z
UID:10001854-1774859400-1774863000@vailracquetclub.com
SUMMARY:Stretch & Roll (Sally)
DESCRIPTION:
URL:https://vailracquetclub.com/event/stretch-roll-sally-2/2026-03-30/
ATTACH;FMTTYPE=image/jpeg:https://vailracquetclub.com/wp-content/uploads/yoga-1146277_1280.jpg
END:VEVENT
BEGIN:VEVENT
DTSTART;TZID=America/New_York:20260331T090000
DTEND;TZID=America/New_York:20260331T100000
DTSTAMP:20260421T223920
CREATED:20260204T171844Z
LAST-MODIFIED:20260204T171844Z
UID:10006215-1774947600-1774951200@vailracquetclub.com
SUMMARY:Yoga (Kelly)
DESCRIPTION:
URL:https://vailracquetclub.com/event/yoga-kelly/2026-03-31/
END:VEVENT
BEGIN:VEVENT
DTSTART;TZID=America/New_York:20260331T163000
DTEND;TZID=America/New_York:20260331T173000
DTSTAMP:20260421T223920
CREATED:20260204T171651Z
LAST-MODIFIED:20260204T171651Z
UID:10005700-1774974600-1774978200@vailracquetclub.com
SUMMARY:TRX (Betsy)
DESCRIPTION:
URL:https://vailracquetclub.com/event/trx-betsy/2026-03-31/
END:VEVENT
BEGIN:VEVENT
DTSTART;TZID=America/New_York:20260401T063000
DTEND;TZID=America/New_York:20260401T073000
DTSTAMP:20260421T223920
CREATED:20250804T190252Z
LAST-MODIFIED:20251119T132740Z
UID:10001139-1775025000-1775028600@vailracquetclub.com
SUMMARY:Masters Swim (Katie)
DESCRIPTION:
URL:https://vailracquetclub.com/event/masters-swim-katie/2026-04-01/
ATTACH;FMTTYPE=image/jpeg:https://vailracquetclub.com/wp-content/uploads/swimming-3828274_1280.jpg
END:VEVENT
BEGIN:VEVENT
DTSTART;TZID=America/New_York:20260401T083000
DTEND;TZID=America/New_York:20260401T093000
DTSTAMP:20260421T223920
CREATED:20260204T171246Z
LAST-MODIFIED:20260204T171341Z
UID:10004917-1775032200-1775035800@vailracquetclub.com
SUMMARY:Pilates Mat (Patti)
DESCRIPTION:
URL:https://vailracquetclub.com/event/pilates-mat-patti-2/2026-04-01/
END:VEVENT
BEGIN:VEVENT
DTSTART;TZID=America/New_York:20260401T180000
DTEND;TZID=America/New_York:20260401T190000
DTSTAMP:20260421T223920
CREATED:20260204T171003Z
LAST-MODIFIED:20260204T171044Z
UID:10004648-1775066400-1775070000@vailracquetclub.com
SUMMARY:Yoga (Noah)
DESCRIPTION:
URL:https://vailracquetclub.com/event/yoga-noah/2026-04-01/
END:VEVENT
BEGIN:VEVENT
DTSTART;TZID=America/New_York:20260402T163000
DTEND;TZID=America/New_York:20260402T173000
DTSTAMP:20260421T223920
CREATED:20260204T171651Z
LAST-MODIFIED:20260204T171651Z
UID:10005701-1775147400-1775151000@vailracquetclub.com
SUMMARY:TRX (Betsy)
DESCRIPTION:
URL:https://vailracquetclub.com/event/trx-betsy/2026-04-02/
END:VEVENT
BEGIN:VEVENT
DTSTART;TZID=America/New_York:20260402T173000
DTEND;TZID=America/New_York:20260402T183000
DTSTAMP:20260421T223920
CREATED:20260204T170048Z
LAST-MODIFIED:20260204T170446Z
UID:10004376-1775151000-1775154600@vailracquetclub.com
SUMMARY:Yoga (Betsy)
DESCRIPTION:
URL:https://vailracquetclub.com/event/yoga-betsy-2/2026-04-02/
ATTACH;FMTTYPE=image/jpeg:https://vailracquetclub.com/wp-content/uploads/woman-2573216_1280.jpg
END:VEVENT
BEGIN:VEVENT
DTSTART;TZID=America/New_York:20260403T063000
DTEND;TZID=America/New_York:20260403T073000
DTSTAMP:20260421T223920
CREATED:20250804T190252Z
LAST-MODIFIED:20251119T132740Z
UID:10001140-1775197800-1775201400@vailracquetclub.com
SUMMARY:Masters Swim (Katie)
DESCRIPTION:
URL:https://vailracquetclub.com/event/masters-swim-katie/2026-04-03/
ATTACH;FMTTYPE=image/jpeg:https://vailracquetclub.com/wp-content/uploads/swimming-3828274_1280.jpg
END:VEVENT
BEGIN:VEVENT
DTSTART;TZID=America/New_York:20260404T083000
DTEND;TZID=America/New_York:20260404T093000
DTSTAMP:20260421T223920
CREATED:20260204T171246Z
LAST-MODIFIED:20260204T171341Z
UID:10004918-1775291400-1775295000@vailracquetclub.com
SUMMARY:Pilates Mat (Patti)
DESCRIPTION:
URL:https://vailracquetclub.com/event/pilates-mat-patti-2/2026-04-04/
END:VEVENT
BEGIN:VEVENT
DTSTART;TZID=America/New_York:20260405T080000
DTEND;TZID=America/New_York:20260405T090000
DTSTAMP:20260421T223920
CREATED:20260204T171520Z
LAST-MODIFIED:20260204T171520Z
UID:10005431-1775376000-1775379600@vailracquetclub.com
SUMMARY:Barre (Madeline)
DESCRIPTION:
URL:https://vailracquetclub.com/event/barre-madeline/2026-04-05/
END:VEVENT
BEGIN:VEVENT
DTSTART;TZID=America/New_York:20260406T063000
DTEND;TZID=America/New_York:20260406T073000
DTSTAMP:20260421T223920
CREATED:20250804T190252Z
LAST-MODIFIED:20251119T132740Z
UID:10001141-1775457000-1775460600@vailracquetclub.com
SUMMARY:Masters Swim (Katie)
DESCRIPTION:
URL:https://vailracquetclub.com/event/masters-swim-katie/2026-04-06/
ATTACH;FMTTYPE=image/jpeg:https://vailracquetclub.com/wp-content/uploads/swimming-3828274_1280.jpg
END:VEVENT
BEGIN:VEVENT
DTSTART;TZID=America/New_York:20260406T083000
DTEND;TZID=America/New_York:20260406T093000
DTSTAMP:20260421T223920
CREATED:20260204T165808Z
LAST-MODIFIED:20260204T165808Z
UID:10001855-1775464200-1775467800@vailracquetclub.com
SUMMARY:Stretch & Roll (Sally)
DESCRIPTION:
URL:https://vailracquetclub.com/event/stretch-roll-sally-2/2026-04-06/
ATTACH;FMTTYPE=image/jpeg:https://vailracquetclub.com/wp-content/uploads/yoga-1146277_1280.jpg
END:VEVENT
BEGIN:VEVENT
DTSTART;TZID=America/New_York:20260407T090000
DTEND;TZID=America/New_York:20260407T100000
DTSTAMP:20260421T223920
CREATED:20260204T171844Z
LAST-MODIFIED:20260204T171844Z
UID:10006216-1775552400-1775556000@vailracquetclub.com
SUMMARY:Yoga (Kelly)
DESCRIPTION:
URL:https://vailracquetclub.com/event/yoga-kelly/2026-04-07/
END:VEVENT
BEGIN:VEVENT
DTSTART;TZID=America/New_York:20260407T163000
DTEND;TZID=America/New_York:20260407T173000
DTSTAMP:20260421T223920
CREATED:20260204T171651Z
LAST-MODIFIED:20260204T171651Z
UID:10005702-1775579400-1775583000@vailracquetclub.com
SUMMARY:TRX (Betsy)
DESCRIPTION:
URL:https://vailracquetclub.com/event/trx-betsy/2026-04-07/
END:VEVENT
BEGIN:VEVENT
DTSTART;TZID=America/New_York:20260408T063000
DTEND;TZID=America/New_York:20260408T073000
DTSTAMP:20260421T223920
CREATED:20250804T190252Z
LAST-MODIFIED:20251119T132740Z
UID:10001142-1775629800-1775633400@vailracquetclub.com
SUMMARY:Masters Swim (Katie)
DESCRIPTION:
URL:https://vailracquetclub.com/event/masters-swim-katie/2026-04-08/
ATTACH;FMTTYPE=image/jpeg:https://vailracquetclub.com/wp-content/uploads/swimming-3828274_1280.jpg
END:VEVENT
BEGIN:VEVENT
DTSTART;TZID=America/New_York:20260408T083000
DTEND;TZID=America/New_York:20260408T093000
DTSTAMP:20260421T223920
CREATED:20260204T171246Z
LAST-MODIFIED:20260204T171341Z
UID:10004919-1775637000-1775640600@vailracquetclub.com
SUMMARY:Pilates Mat (Patti)
DESCRIPTION:
URL:https://vailracquetclub.com/event/pilates-mat-patti-2/2026-04-08/
END:VEVENT
BEGIN:VEVENT
DTSTART;TZID=America/New_York:20260408T180000
DTEND;TZID=America/New_York:20260408T190000
DTSTAMP:20260421T223920
CREATED:20260204T171003Z
LAST-MODIFIED:20260204T171044Z
UID:10004649-1775671200-1775674800@vailracquetclub.com
SUMMARY:Yoga (Noah)
DESCRIPTION:
URL:https://vailracquetclub.com/event/yoga-noah/2026-04-08/
END:VEVENT
BEGIN:VEVENT
DTSTART;TZID=America/New_York:20260409T173000
DTEND;TZID=America/New_York:20260409T183000
DTSTAMP:20260421T223920
CREATED:20260204T170048Z
LAST-MODIFIED:20260204T170446Z
UID:10004377-1775755800-1775759400@vailracquetclub.com
SUMMARY:Yoga (Betsy)
DESCRIPTION:
URL:https://vailracquetclub.com/event/yoga-betsy-2/2026-04-09/
ATTACH;FMTTYPE=image/jpeg:https://vailracquetclub.com/wp-content/uploads/woman-2573216_1280.jpg
END:VEVENT
BEGIN:VEVENT
DTSTART;TZID=America/New_York:20260410T063000
DTEND;TZID=America/New_York:20260410T073000
DTSTAMP:20260421T223920
CREATED:20250804T190252Z
LAST-MODIFIED:20251119T132740Z
UID:10001143-1775802600-1775806200@vailracquetclub.com
SUMMARY:Masters Swim (Katie)
DESCRIPTION:
URL:https://vailracquetclub.com/event/masters-swim-katie/2026-04-10/
ATTACH;FMTTYPE=image/jpeg:https://vailracquetclub.com/wp-content/uploads/swimming-3828274_1280.jpg
END:VEVENT
BEGIN:VEVENT
DTSTART;TZID=America/New_York:20260411T083000
DTEND;TZID=America/New_York:20260411T093000
DTSTAMP:20260421T223920
CREATED:20260204T171246Z
LAST-MODIFIED:20260204T171341Z
UID:10004920-1775896200-1775899800@vailracquetclub.com
SUMMARY:Pilates Mat (Patti)
DESCRIPTION:
URL:https://vailracquetclub.com/event/pilates-mat-patti-2/2026-04-11/
END:VEVENT
BEGIN:VEVENT
DTSTART;TZID=America/New_York:20260412T080000
DTEND;TZID=America/New_York:20260412T090000
DTSTAMP:20260421T223920
CREATED:20260204T171520Z
LAST-MODIFIED:20260204T171520Z
UID:10005432-1775980800-1775984400@vailracquetclub.com
SUMMARY:Barre (Madeline)
DESCRIPTION:
URL:https://vailracquetclub.com/event/barre-madeline/2026-04-12/
END:VEVENT
BEGIN:VEVENT
DTSTART;TZID=America/New_York:20260413T063000
DTEND;TZID=America/New_York:20260413T073000
DTSTAMP:20260421T223920
CREATED:20250804T190252Z
LAST-MODIFIED:20251119T132740Z
UID:10001144-1776061800-1776065400@vailracquetclub.com
SUMMARY:Masters Swim (Katie)
DESCRIPTION:
URL:https://vailracquetclub.com/event/masters-swim-katie/2026-04-13/
ATTACH;FMTTYPE=image/jpeg:https://vailracquetclub.com/wp-content/uploads/swimming-3828274_1280.jpg
END:VEVENT
BEGIN:VEVENT
DTSTART;TZID=America/New_York:20260413T083000
DTEND;TZID=America/New_York:20260413T093000
DTSTAMP:20260421T223920
CREATED:20260204T165808Z
LAST-MODIFIED:20260204T165808Z
UID:10001856-1776069000-1776072600@vailracquetclub.com
SUMMARY:Stretch & Roll (Sally)
DESCRIPTION:
URL:https://vailracquetclub.com/event/stretch-roll-sally-2/2026-04-13/
ATTACH;FMTTYPE=image/jpeg:https://vailracquetclub.com/wp-content/uploads/yoga-1146277_1280.jpg
END:VEVENT
END:VCALENDAR