BEGIN:VCALENDAR
VERSION:2.0
PRODID:-//Vail Racquet Club - ECPv6.15.20//NONSGML v1.0//EN
CALSCALE:GREGORIAN
METHOD:PUBLISH
X-ORIGINAL-URL:https://vailracquetclub.com
X-WR-CALDESC:Events for Vail Racquet Club
REFRESH-INTERVAL;VALUE=DURATION:PT1H
X-Robots-Tag:noindex
X-PUBLISHED-TTL:PT1H
BEGIN:VTIMEZONE
TZID:America/New_York
BEGIN:DAYLIGHT
TZOFFSETFROM:-0500
TZOFFSETTO:-0400
TZNAME:EDT
DTSTART:20250309T070000
END:DAYLIGHT
BEGIN:STANDARD
TZOFFSETFROM:-0400
TZOFFSETTO:-0500
TZNAME:EST
DTSTART:20251102T060000
END:STANDARD
BEGIN:DAYLIGHT
TZOFFSETFROM:-0500
TZOFFSETTO:-0400
TZNAME:EDT
DTSTART:20260308T070000
END:DAYLIGHT
BEGIN:STANDARD
TZOFFSETFROM:-0400
TZOFFSETTO:-0500
TZNAME:EST
DTSTART:20261101T060000
END:STANDARD
BEGIN:DAYLIGHT
TZOFFSETFROM:-0500
TZOFFSETTO:-0400
TZNAME:EDT
DTSTART:20270314T070000
END:DAYLIGHT
BEGIN:STANDARD
TZOFFSETFROM:-0400
TZOFFSETTO:-0500
TZNAME:EST
DTSTART:20271107T060000
END:STANDARD
END:VTIMEZONE
BEGIN:VEVENT
DTSTART;TZID=America/New_York:20260517T080000
DTEND;TZID=America/New_York:20260517T090000
DTSTAMP:20260421T213855
CREATED:20260204T171520Z
LAST-MODIFIED:20260204T171520Z
UID:10005437-1779004800-1779008400@vailracquetclub.com
SUMMARY:Barre (Madeline)
DESCRIPTION:
URL:https://vailracquetclub.com/event/barre-madeline/2026-05-17/
END:VEVENT
BEGIN:VEVENT
DTSTART;TZID=America/New_York:20260518T063000
DTEND;TZID=America/New_York:20260518T073000
DTSTAMP:20260421T213855
CREATED:20250804T190252Z
LAST-MODIFIED:20251119T132740Z
UID:10001159-1779085800-1779089400@vailracquetclub.com
SUMMARY:Masters Swim (Katie)
DESCRIPTION:
URL:https://vailracquetclub.com/event/masters-swim-katie/2026-05-18/
ATTACH;FMTTYPE=image/jpeg:https://vailracquetclub.com/wp-content/uploads/swimming-3828274_1280.jpg
END:VEVENT
BEGIN:VEVENT
DTSTART;TZID=America/New_York:20260518T083000
DTEND;TZID=America/New_York:20260518T093000
DTSTAMP:20260421T213855
CREATED:20260204T165808Z
LAST-MODIFIED:20260204T165808Z
UID:10001861-1779093000-1779096600@vailracquetclub.com
SUMMARY:Stretch & Roll (Sally)
DESCRIPTION:
URL:https://vailracquetclub.com/event/stretch-roll-sally-2/2026-05-18/
ATTACH;FMTTYPE=image/jpeg:https://vailracquetclub.com/wp-content/uploads/yoga-1146277_1280.jpg
END:VEVENT
BEGIN:VEVENT
DTSTART;TZID=America/New_York:20260519T163000
DTEND;TZID=America/New_York:20260519T173000
DTSTAMP:20260421T213855
CREATED:20260414T211631Z
LAST-MODIFIED:20260414T211631Z
UID:10005714-1779208200-1779211800@vailracquetclub.com
SUMMARY:TRX (Betsy)
DESCRIPTION:
URL:https://vailracquetclub.com/event/trx-betsy-2/2026-05-19/
END:VEVENT
BEGIN:VEVENT
DTSTART;TZID=America/New_York:20260520T063000
DTEND;TZID=America/New_York:20260520T073000
DTSTAMP:20260421T213855
CREATED:20250804T190252Z
LAST-MODIFIED:20251119T132740Z
UID:10001160-1779258600-1779262200@vailracquetclub.com
SUMMARY:Masters Swim (Katie)
DESCRIPTION:
URL:https://vailracquetclub.com/event/masters-swim-katie/2026-05-20/
ATTACH;FMTTYPE=image/jpeg:https://vailracquetclub.com/wp-content/uploads/swimming-3828274_1280.jpg
END:VEVENT
BEGIN:VEVENT
DTSTART;TZID=America/New_York:20260520T180000
DTEND;TZID=America/New_York:20260520T190000
DTSTAMP:20260421T213855
CREATED:20260204T171003Z
LAST-MODIFIED:20260204T171044Z
UID:10004655-1779300000-1779303600@vailracquetclub.com
SUMMARY:Yoga (Noah)
DESCRIPTION:
URL:https://vailracquetclub.com/event/yoga-noah/2026-05-20/
END:VEVENT
BEGIN:VEVENT
DTSTART;TZID=America/New_York:20260521T083000
DTEND;TZID=America/New_York:20260521T093000
DTSTAMP:20260421T213855
CREATED:20260414T212630Z
LAST-MODIFIED:20260414T214047Z
UID:10006492-1779352200-1779355800@vailracquetclub.com
SUMMARY:Yoga (Shayne)
DESCRIPTION:
URL:https://vailracquetclub.com/event/yoga-kelly-2/2026-05-21/
END:VEVENT
BEGIN:VEVENT
DTSTART;TZID=America/New_York:20260521T163000
DTEND;TZID=America/New_York:20260521T173000
DTSTAMP:20260421T213855
CREATED:20260414T211631Z
LAST-MODIFIED:20260414T211631Z
UID:10005715-1779381000-1779384600@vailracquetclub.com
SUMMARY:TRX (Betsy)
DESCRIPTION:
URL:https://vailracquetclub.com/event/trx-betsy-2/2026-05-21/
END:VEVENT
BEGIN:VEVENT
DTSTART;TZID=America/New_York:20260521T173000
DTEND;TZID=America/New_York:20260521T183000
DTSTAMP:20260421T213855
CREATED:20260204T170048Z
LAST-MODIFIED:20260204T170446Z
UID:10004383-1779384600-1779388200@vailracquetclub.com
SUMMARY:Yoga (Betsy)
DESCRIPTION:
URL:https://vailracquetclub.com/event/yoga-betsy-2/2026-05-21/
ATTACH;FMTTYPE=image/jpeg:https://vailracquetclub.com/wp-content/uploads/woman-2573216_1280.jpg
END:VEVENT
BEGIN:VEVENT
DTSTART;TZID=America/New_York:20260522T063000
DTEND;TZID=America/New_York:20260522T073000
DTSTAMP:20260421T213855
CREATED:20250804T190252Z
LAST-MODIFIED:20251119T132740Z
UID:10001161-1779431400-1779435000@vailracquetclub.com
SUMMARY:Masters Swim (Katie)
DESCRIPTION:
URL:https://vailracquetclub.com/event/masters-swim-katie/2026-05-22/
ATTACH;FMTTYPE=image/jpeg:https://vailracquetclub.com/wp-content/uploads/swimming-3828274_1280.jpg
END:VEVENT
BEGIN:VEVENT
DTSTART;TZID=America/New_York:20260524T080000
DTEND;TZID=America/New_York:20260524T090000
DTSTAMP:20260421T213855
CREATED:20260204T171520Z
LAST-MODIFIED:20260204T171520Z
UID:10005438-1779609600-1779613200@vailracquetclub.com
SUMMARY:Barre (Madeline)
DESCRIPTION:
URL:https://vailracquetclub.com/event/barre-madeline/2026-05-24/
END:VEVENT
BEGIN:VEVENT
DTSTART;TZID=America/New_York:20260525T063000
DTEND;TZID=America/New_York:20260525T073000
DTSTAMP:20260421T213855
CREATED:20250804T190252Z
LAST-MODIFIED:20251119T132740Z
UID:10001162-1779690600-1779694200@vailracquetclub.com
SUMMARY:Masters Swim (Katie)
DESCRIPTION:
URL:https://vailracquetclub.com/event/masters-swim-katie/2026-05-25/
ATTACH;FMTTYPE=image/jpeg:https://vailracquetclub.com/wp-content/uploads/swimming-3828274_1280.jpg
END:VEVENT
BEGIN:VEVENT
DTSTART;TZID=America/New_York:20260525T083000
DTEND;TZID=America/New_York:20260525T093000
DTSTAMP:20260421T213855
CREATED:20260204T165808Z
LAST-MODIFIED:20260204T165808Z
UID:10001862-1779697800-1779701400@vailracquetclub.com
SUMMARY:Stretch & Roll (Sally)
DESCRIPTION:
URL:https://vailracquetclub.com/event/stretch-roll-sally-2/2026-05-25/
ATTACH;FMTTYPE=image/jpeg:https://vailracquetclub.com/wp-content/uploads/yoga-1146277_1280.jpg
END:VEVENT
BEGIN:VEVENT
DTSTART;TZID=America/New_York:20260526T163000
DTEND;TZID=America/New_York:20260526T173000
DTSTAMP:20260421T213855
CREATED:20260414T211631Z
LAST-MODIFIED:20260414T211631Z
UID:10005716-1779813000-1779816600@vailracquetclub.com
SUMMARY:TRX (Betsy)
DESCRIPTION:
URL:https://vailracquetclub.com/event/trx-betsy-2/2026-05-26/
END:VEVENT
BEGIN:VEVENT
DTSTART;TZID=America/New_York:20260527T063000
DTEND;TZID=America/New_York:20260527T073000
DTSTAMP:20260421T213855
CREATED:20250804T190252Z
LAST-MODIFIED:20251119T132740Z
UID:10001163-1779863400-1779867000@vailracquetclub.com
SUMMARY:Masters Swim (Katie)
DESCRIPTION:
URL:https://vailracquetclub.com/event/masters-swim-katie/2026-05-27/
ATTACH;FMTTYPE=image/jpeg:https://vailracquetclub.com/wp-content/uploads/swimming-3828274_1280.jpg
END:VEVENT
BEGIN:VEVENT
DTSTART;TZID=America/New_York:20260527T180000
DTEND;TZID=America/New_York:20260527T190000
DTSTAMP:20260421T213855
CREATED:20260204T171003Z
LAST-MODIFIED:20260204T171044Z
UID:10004656-1779904800-1779908400@vailracquetclub.com
SUMMARY:Yoga (Noah)
DESCRIPTION:
URL:https://vailracquetclub.com/event/yoga-noah/2026-05-27/
END:VEVENT
BEGIN:VEVENT
DTSTART;TZID=America/New_York:20260528T083000
DTEND;TZID=America/New_York:20260528T093000
DTSTAMP:20260421T213855
CREATED:20260414T212630Z
LAST-MODIFIED:20260414T214047Z
UID:10006493-1779957000-1779960600@vailracquetclub.com
SUMMARY:Yoga (Shayne)
DESCRIPTION:
URL:https://vailracquetclub.com/event/yoga-kelly-2/2026-05-28/
END:VEVENT
BEGIN:VEVENT
DTSTART;TZID=America/New_York:20260528T163000
DTEND;TZID=America/New_York:20260528T173000
DTSTAMP:20260421T213855
CREATED:20260414T211631Z
LAST-MODIFIED:20260414T211631Z
UID:10005717-1779985800-1779989400@vailracquetclub.com
SUMMARY:TRX (Betsy)
DESCRIPTION:
URL:https://vailracquetclub.com/event/trx-betsy-2/2026-05-28/
END:VEVENT
BEGIN:VEVENT
DTSTART;TZID=America/New_York:20260528T173000
DTEND;TZID=America/New_York:20260528T183000
DTSTAMP:20260421T213855
CREATED:20260204T170048Z
LAST-MODIFIED:20260204T170446Z
UID:10004384-1779989400-1779993000@vailracquetclub.com
SUMMARY:Yoga (Betsy)
DESCRIPTION:
URL:https://vailracquetclub.com/event/yoga-betsy-2/2026-05-28/
ATTACH;FMTTYPE=image/jpeg:https://vailracquetclub.com/wp-content/uploads/woman-2573216_1280.jpg
END:VEVENT
BEGIN:VEVENT
DTSTART;TZID=America/New_York:20260529T063000
DTEND;TZID=America/New_York:20260529T073000
DTSTAMP:20260421T213855
CREATED:20250804T190252Z
LAST-MODIFIED:20251119T132740Z
UID:10001164-1780036200-1780039800@vailracquetclub.com
SUMMARY:Masters Swim (Katie)
DESCRIPTION:
URL:https://vailracquetclub.com/event/masters-swim-katie/2026-05-29/
ATTACH;FMTTYPE=image/jpeg:https://vailracquetclub.com/wp-content/uploads/swimming-3828274_1280.jpg
END:VEVENT
BEGIN:VEVENT
DTSTART;TZID=America/New_York:20260531T080000
DTEND;TZID=America/New_York:20260531T090000
DTSTAMP:20260421T213855
CREATED:20260204T171520Z
LAST-MODIFIED:20260204T171520Z
UID:10005439-1780214400-1780218000@vailracquetclub.com
SUMMARY:Barre (Madeline)
DESCRIPTION:
URL:https://vailracquetclub.com/event/barre-madeline/2026-05-31/
END:VEVENT
BEGIN:VEVENT
DTSTART;TZID=America/New_York:20260601T063000
DTEND;TZID=America/New_York:20260601T073000
DTSTAMP:20260421T213855
CREATED:20250804T190252Z
LAST-MODIFIED:20251119T132740Z
UID:10001165-1780295400-1780299000@vailracquetclub.com
SUMMARY:Masters Swim (Katie)
DESCRIPTION:
URL:https://vailracquetclub.com/event/masters-swim-katie/2026-06-01/
ATTACH;FMTTYPE=image/jpeg:https://vailracquetclub.com/wp-content/uploads/swimming-3828274_1280.jpg
END:VEVENT
BEGIN:VEVENT
DTSTART;TZID=America/New_York:20260601T083000
DTEND;TZID=America/New_York:20260601T093000
DTSTAMP:20260421T213855
CREATED:20260204T165808Z
LAST-MODIFIED:20260204T165808Z
UID:10001863-1780302600-1780306200@vailracquetclub.com
SUMMARY:Stretch & Roll (Sally)
DESCRIPTION:
URL:https://vailracquetclub.com/event/stretch-roll-sally-2/2026-06-01/
ATTACH;FMTTYPE=image/jpeg:https://vailracquetclub.com/wp-content/uploads/yoga-1146277_1280.jpg
END:VEVENT
BEGIN:VEVENT
DTSTART;TZID=America/New_York:20260602T163000
DTEND;TZID=America/New_York:20260602T173000
DTSTAMP:20260421T213855
CREATED:20260414T211631Z
LAST-MODIFIED:20260414T211631Z
UID:10005718-1780417800-1780421400@vailracquetclub.com
SUMMARY:TRX (Betsy)
DESCRIPTION:
URL:https://vailracquetclub.com/event/trx-betsy-2/2026-06-02/
END:VEVENT
BEGIN:VEVENT
DTSTART;TZID=America/New_York:20260603T063000
DTEND;TZID=America/New_York:20260603T073000
DTSTAMP:20260421T213855
CREATED:20250804T190252Z
LAST-MODIFIED:20251119T132740Z
UID:10001166-1780468200-1780471800@vailracquetclub.com
SUMMARY:Masters Swim (Katie)
DESCRIPTION:
URL:https://vailracquetclub.com/event/masters-swim-katie/2026-06-03/
ATTACH;FMTTYPE=image/jpeg:https://vailracquetclub.com/wp-content/uploads/swimming-3828274_1280.jpg
END:VEVENT
BEGIN:VEVENT
DTSTART;TZID=America/New_York:20260603T180000
DTEND;TZID=America/New_York:20260603T190000
DTSTAMP:20260421T213855
CREATED:20260204T171003Z
LAST-MODIFIED:20260204T171044Z
UID:10004657-1780509600-1780513200@vailracquetclub.com
SUMMARY:Yoga (Noah)
DESCRIPTION:
URL:https://vailracquetclub.com/event/yoga-noah/2026-06-03/
END:VEVENT
BEGIN:VEVENT
DTSTART;TZID=America/New_York:20260604T083000
DTEND;TZID=America/New_York:20260604T093000
DTSTAMP:20260421T213855
CREATED:20260414T212630Z
LAST-MODIFIED:20260414T214047Z
UID:10006494-1780561800-1780565400@vailracquetclub.com
SUMMARY:Yoga (Shayne)
DESCRIPTION:
URL:https://vailracquetclub.com/event/yoga-kelly-2/2026-06-04/
END:VEVENT
BEGIN:VEVENT
DTSTART;TZID=America/New_York:20260604T163000
DTEND;TZID=America/New_York:20260604T173000
DTSTAMP:20260421T213855
CREATED:20260414T211631Z
LAST-MODIFIED:20260414T211631Z
UID:10005719-1780590600-1780594200@vailracquetclub.com
SUMMARY:TRX (Betsy)
DESCRIPTION:
URL:https://vailracquetclub.com/event/trx-betsy-2/2026-06-04/
END:VEVENT
BEGIN:VEVENT
DTSTART;TZID=America/New_York:20260604T173000
DTEND;TZID=America/New_York:20260604T183000
DTSTAMP:20260421T213855
CREATED:20260204T170048Z
LAST-MODIFIED:20260204T170446Z
UID:10004385-1780594200-1780597800@vailracquetclub.com
SUMMARY:Yoga (Betsy)
DESCRIPTION:
URL:https://vailracquetclub.com/event/yoga-betsy-2/2026-06-04/
ATTACH;FMTTYPE=image/jpeg:https://vailracquetclub.com/wp-content/uploads/woman-2573216_1280.jpg
END:VEVENT
BEGIN:VEVENT
DTSTART;TZID=America/New_York:20260605T063000
DTEND;TZID=America/New_York:20260605T073000
DTSTAMP:20260421T213855
CREATED:20250804T190252Z
LAST-MODIFIED:20251119T132740Z
UID:10001167-1780641000-1780644600@vailracquetclub.com
SUMMARY:Masters Swim (Katie)
DESCRIPTION:
URL:https://vailracquetclub.com/event/masters-swim-katie/2026-06-05/
ATTACH;FMTTYPE=image/jpeg:https://vailracquetclub.com/wp-content/uploads/swimming-3828274_1280.jpg
END:VEVENT
END:VCALENDAR