BEGIN:VCALENDAR
VERSION:2.0
PRODID:-//Vail Racquet Club - ECPv6.15.20//NONSGML v1.0//EN
CALSCALE:GREGORIAN
METHOD:PUBLISH
X-WR-CALNAME:Vail Racquet Club
X-ORIGINAL-URL:https://vailracquetclub.com
X-WR-CALDESC:Events for Vail Racquet Club
REFRESH-INTERVAL;VALUE=DURATION:PT1H
X-Robots-Tag:noindex
X-PUBLISHED-TTL:PT1H
BEGIN:VTIMEZONE
TZID:America/New_York
BEGIN:DAYLIGHT
TZOFFSETFROM:-0500
TZOFFSETTO:-0400
TZNAME:EDT
DTSTART:20240310T070000
END:DAYLIGHT
BEGIN:STANDARD
TZOFFSETFROM:-0400
TZOFFSETTO:-0500
TZNAME:EST
DTSTART:20241103T060000
END:STANDARD
BEGIN:DAYLIGHT
TZOFFSETFROM:-0500
TZOFFSETTO:-0400
TZNAME:EDT
DTSTART:20250309T070000
END:DAYLIGHT
BEGIN:STANDARD
TZOFFSETFROM:-0400
TZOFFSETTO:-0500
TZNAME:EST
DTSTART:20251102T060000
END:STANDARD
BEGIN:DAYLIGHT
TZOFFSETFROM:-0500
TZOFFSETTO:-0400
TZNAME:EDT
DTSTART:20260308T070000
END:DAYLIGHT
BEGIN:STANDARD
TZOFFSETFROM:-0400
TZOFFSETTO:-0500
TZNAME:EST
DTSTART:20261101T060000
END:STANDARD
END:VTIMEZONE
BEGIN:VEVENT
DTSTART;TZID=America/New_York:20251219T083000
DTEND;TZID=America/New_York:20251219T093000
DTSTAMP:20260426T001629
CREATED:20250804T190254Z
LAST-MODIFIED:20251120T104251Z
UID:10002885-1766133000-1766136600@vailracquetclub.com
SUMMARY:Stretch & Roll (Sally)
DESCRIPTION:
URL:https://vailracquetclub.com/event/stretch-roll-sally/2025-12-19/
ATTACH;FMTTYPE=image/jpeg:https://vailracquetclub.com/wp-content/uploads/yoga-1146277_1280.jpg
END:VEVENT
BEGIN:VEVENT
DTSTART;TZID=America/New_York:20251219T063000
DTEND;TZID=America/New_York:20251219T073000
DTSTAMP:20260426T001629
CREATED:20250804T190252Z
LAST-MODIFIED:20260424T103135Z
UID:10001095-1766125800-1766129400@vailracquetclub.com
SUMMARY:Masters Swim (Katie)
DESCRIPTION:
URL:https://vailracquetclub.com/event/masters-swim-katie/2025-12-19/
ATTACH;FMTTYPE=image/jpeg:https://vailracquetclub.com/wp-content/uploads/swimming-3828274_1280.jpg
END:VEVENT
BEGIN:VEVENT
DTSTART;TZID=America/New_York:20251217T063000
DTEND;TZID=America/New_York:20251217T073000
DTSTAMP:20260426T001629
CREATED:20250804T190252Z
LAST-MODIFIED:20260424T103135Z
UID:10001094-1765953000-1765956600@vailracquetclub.com
SUMMARY:Masters Swim (Katie)
DESCRIPTION:
URL:https://vailracquetclub.com/event/masters-swim-katie/2025-12-17/
ATTACH;FMTTYPE=image/jpeg:https://vailracquetclub.com/wp-content/uploads/swimming-3828274_1280.jpg
END:VEVENT
BEGIN:VEVENT
DTSTART;TZID=America/New_York:20251216T120000
DTEND;TZID=America/New_York:20251216T130000
DTSTAMP:20260426T001629
CREATED:20250804T185907Z
LAST-MODIFIED:20251119T132926Z
UID:10000273-1765886400-1765890000@vailracquetclub.com
SUMMARY:Yoga (Betsy)
DESCRIPTION:
URL:https://vailracquetclub.com/event/yoga-betsy/2025-12-16/
ATTACH;FMTTYPE=image/jpeg:https://vailracquetclub.com/wp-content/uploads/woman-2573216_1280.jpg
END:VEVENT
BEGIN:VEVENT
DTSTART;TZID=America/New_York:20251215T083000
DTEND;TZID=America/New_York:20251215T093000
DTSTAMP:20260426T001629
CREATED:20250804T190254Z
LAST-MODIFIED:20251120T104251Z
UID:10001839-1765787400-1765791000@vailracquetclub.com
SUMMARY:Stretch & Roll (Sally)
DESCRIPTION:
URL:https://vailracquetclub.com/event/stretch-roll-sally/2025-12-15/
ATTACH;FMTTYPE=image/jpeg:https://vailracquetclub.com/wp-content/uploads/yoga-1146277_1280.jpg
END:VEVENT
BEGIN:VEVENT
DTSTART;TZID=America/New_York:20251215T063000
DTEND;TZID=America/New_York:20251215T073000
DTSTAMP:20260426T001629
CREATED:20250804T190252Z
LAST-MODIFIED:20260424T103135Z
UID:10001093-1765780200-1765783800@vailracquetclub.com
SUMMARY:Masters Swim (Katie)
DESCRIPTION:
URL:https://vailracquetclub.com/event/masters-swim-katie/2025-12-15/
ATTACH;FMTTYPE=image/jpeg:https://vailracquetclub.com/wp-content/uploads/swimming-3828274_1280.jpg
END:VEVENT
BEGIN:VEVENT
DTSTART;TZID=America/New_York:20251214T090000
DTEND;TZID=America/New_York:20251214T100000
DTSTAMP:20260426T001629
CREATED:20251119T131648Z
LAST-MODIFIED:20251120T102444Z
UID:10003680-1765702800-1765706400@vailracquetclub.com
SUMMARY:Yoga (Shayne)
DESCRIPTION:
URL:https://vailracquetclub.com/event/yoga-shayne-2/2025-12-14/
ATTACH;FMTTYPE=image/jpeg:https://vailracquetclub.com/wp-content/uploads/woman-2568410_1280.jpg
END:VEVENT
BEGIN:VEVENT
DTSTART;TZID=America/New_York:20251213T090000
DTEND;TZID=America/New_York:20251213T100000
DTSTAMP:20260426T001629
CREATED:20251119T131648Z
LAST-MODIFIED:20251120T102444Z
UID:10003679-1765616400-1765620000@vailracquetclub.com
SUMMARY:Yoga (Shayne)
DESCRIPTION:
URL:https://vailracquetclub.com/event/yoga-shayne-2/2025-12-13/
ATTACH;FMTTYPE=image/jpeg:https://vailracquetclub.com/wp-content/uploads/woman-2568410_1280.jpg
END:VEVENT
BEGIN:VEVENT
DTSTART;TZID=America/New_York:20251212T100000
DTEND;TZID=America/New_York:20251212T110000
DTSTAMP:20260426T001629
CREATED:20250804T190112Z
LAST-MODIFIED:20251119T132518Z
UID:10003146-1765533600-1765537200@vailracquetclub.com
SUMMARY:Pilates Mat (Lara)
DESCRIPTION:
URL:https://vailracquetclub.com/event/pilates-mat-lara/2025-12-12/
ATTACH;FMTTYPE=image/jpeg:https://vailracquetclub.com/wp-content/uploads/woman-2959213_1280.jpg
END:VEVENT
BEGIN:VEVENT
DTSTART;TZID=America/New_York:20251212T083000
DTEND;TZID=America/New_York:20251212T093000
DTSTAMP:20260426T001629
CREATED:20250804T190254Z
LAST-MODIFIED:20251120T104251Z
UID:10002884-1765528200-1765531800@vailracquetclub.com
SUMMARY:Stretch & Roll (Sally)
DESCRIPTION:
URL:https://vailracquetclub.com/event/stretch-roll-sally/2025-12-12/
ATTACH;FMTTYPE=image/jpeg:https://vailracquetclub.com/wp-content/uploads/yoga-1146277_1280.jpg
END:VEVENT
BEGIN:VEVENT
DTSTART;TZID=America/New_York:20251212T063000
DTEND;TZID=America/New_York:20251212T073000
DTSTAMP:20260426T001629
CREATED:20250804T190252Z
LAST-MODIFIED:20260424T103135Z
UID:10001092-1765521000-1765524600@vailracquetclub.com
SUMMARY:Masters Swim (Katie)
DESCRIPTION:
URL:https://vailracquetclub.com/event/masters-swim-katie/2025-12-12/
ATTACH;FMTTYPE=image/jpeg:https://vailracquetclub.com/wp-content/uploads/swimming-3828274_1280.jpg
END:VEVENT
BEGIN:VEVENT
DTSTART;TZID=America/New_York:20251210T063000
DTEND;TZID=America/New_York:20251210T073000
DTSTAMP:20260426T001629
CREATED:20250804T190252Z
LAST-MODIFIED:20260424T103135Z
UID:10001091-1765348200-1765351800@vailracquetclub.com
SUMMARY:Masters Swim (Katie)
DESCRIPTION:
URL:https://vailracquetclub.com/event/masters-swim-katie/2025-12-10/
ATTACH;FMTTYPE=image/jpeg:https://vailracquetclub.com/wp-content/uploads/swimming-3828274_1280.jpg
END:VEVENT
BEGIN:VEVENT
DTSTART;TZID=America/New_York:20251209T120000
DTEND;TZID=America/New_York:20251209T130000
DTSTAMP:20260426T001629
CREATED:20250804T185907Z
LAST-MODIFIED:20251119T132926Z
UID:10000272-1765281600-1765285200@vailracquetclub.com
SUMMARY:Yoga (Betsy)
DESCRIPTION:
URL:https://vailracquetclub.com/event/yoga-betsy/2025-12-09/
ATTACH;FMTTYPE=image/jpeg:https://vailracquetclub.com/wp-content/uploads/woman-2573216_1280.jpg
END:VEVENT
BEGIN:VEVENT
DTSTART;TZID=America/New_York:20251208T083000
DTEND;TZID=America/New_York:20251208T093000
DTSTAMP:20260426T001629
CREATED:20250804T190254Z
LAST-MODIFIED:20251120T104251Z
UID:10001838-1765182600-1765186200@vailracquetclub.com
SUMMARY:Stretch & Roll (Sally)
DESCRIPTION:
URL:https://vailracquetclub.com/event/stretch-roll-sally/2025-12-08/
ATTACH;FMTTYPE=image/jpeg:https://vailracquetclub.com/wp-content/uploads/yoga-1146277_1280.jpg
END:VEVENT
BEGIN:VEVENT
DTSTART;TZID=America/New_York:20251208T063000
DTEND;TZID=America/New_York:20251208T073000
DTSTAMP:20260426T001629
CREATED:20250804T190252Z
LAST-MODIFIED:20260424T103135Z
UID:10001090-1765175400-1765179000@vailracquetclub.com
SUMMARY:Masters Swim (Katie)
DESCRIPTION:
URL:https://vailracquetclub.com/event/masters-swim-katie/2025-12-08/
ATTACH;FMTTYPE=image/jpeg:https://vailracquetclub.com/wp-content/uploads/swimming-3828274_1280.jpg
END:VEVENT
BEGIN:VEVENT
DTSTART;TZID=America/New_York:20251207T090000
DTEND;TZID=America/New_York:20251207T100000
DTSTAMP:20260426T001629
CREATED:20251119T131648Z
LAST-MODIFIED:20251120T102444Z
UID:10003678-1765098000-1765101600@vailracquetclub.com
SUMMARY:Yoga (Shayne)
DESCRIPTION:
URL:https://vailracquetclub.com/event/yoga-shayne-2/2025-12-07/
ATTACH;FMTTYPE=image/jpeg:https://vailracquetclub.com/wp-content/uploads/woman-2568410_1280.jpg
END:VEVENT
BEGIN:VEVENT
DTSTART;TZID=America/New_York:20251206T090000
DTEND;TZID=America/New_York:20251206T100000
DTSTAMP:20260426T001629
CREATED:20251119T131648Z
LAST-MODIFIED:20251120T102444Z
UID:10003677-1765011600-1765015200@vailracquetclub.com
SUMMARY:Yoga (Shayne)
DESCRIPTION:
URL:https://vailracquetclub.com/event/yoga-shayne-2/2025-12-06/
ATTACH;FMTTYPE=image/jpeg:https://vailracquetclub.com/wp-content/uploads/woman-2568410_1280.jpg
END:VEVENT
BEGIN:VEVENT
DTSTART;TZID=America/New_York:20251205T100000
DTEND;TZID=America/New_York:20251205T110000
DTSTAMP:20260426T001629
CREATED:20250804T190112Z
LAST-MODIFIED:20251119T132518Z
UID:10003145-1764928800-1764932400@vailracquetclub.com
SUMMARY:Pilates Mat (Lara)
DESCRIPTION:
URL:https://vailracquetclub.com/event/pilates-mat-lara/2025-12-05/
ATTACH;FMTTYPE=image/jpeg:https://vailracquetclub.com/wp-content/uploads/woman-2959213_1280.jpg
END:VEVENT
BEGIN:VEVENT
DTSTART;TZID=America/New_York:20251205T083000
DTEND;TZID=America/New_York:20251205T093000
DTSTAMP:20260426T001629
CREATED:20250804T190254Z
LAST-MODIFIED:20251120T104251Z
UID:10002883-1764923400-1764927000@vailracquetclub.com
SUMMARY:Stretch & Roll (Sally)
DESCRIPTION:
URL:https://vailracquetclub.com/event/stretch-roll-sally/2025-12-05/
ATTACH;FMTTYPE=image/jpeg:https://vailracquetclub.com/wp-content/uploads/yoga-1146277_1280.jpg
END:VEVENT
BEGIN:VEVENT
DTSTART;TZID=America/New_York:20251205T063000
DTEND;TZID=America/New_York:20251205T073000
DTSTAMP:20260426T001629
CREATED:20250804T190252Z
LAST-MODIFIED:20260424T103135Z
UID:10001089-1764916200-1764919800@vailracquetclub.com
SUMMARY:Masters Swim (Katie)
DESCRIPTION:
URL:https://vailracquetclub.com/event/masters-swim-katie/2025-12-05/
ATTACH;FMTTYPE=image/jpeg:https://vailracquetclub.com/wp-content/uploads/swimming-3828274_1280.jpg
END:VEVENT
BEGIN:VEVENT
DTSTART;TZID=America/New_York:20251203T063000
DTEND;TZID=America/New_York:20251203T073000
DTSTAMP:20260426T001629
CREATED:20250804T190252Z
LAST-MODIFIED:20260424T103135Z
UID:10001088-1764743400-1764747000@vailracquetclub.com
SUMMARY:Masters Swim (Katie)
DESCRIPTION:
URL:https://vailracquetclub.com/event/masters-swim-katie/2025-12-03/
ATTACH;FMTTYPE=image/jpeg:https://vailracquetclub.com/wp-content/uploads/swimming-3828274_1280.jpg
END:VEVENT
BEGIN:VEVENT
DTSTART;TZID=America/New_York:20251202T120000
DTEND;TZID=America/New_York:20251202T130000
DTSTAMP:20260426T001629
CREATED:20250804T185907Z
LAST-MODIFIED:20251119T132926Z
UID:10000271-1764676800-1764680400@vailracquetclub.com
SUMMARY:Yoga (Betsy)
DESCRIPTION:
URL:https://vailracquetclub.com/event/yoga-betsy/2025-12-02/
ATTACH;FMTTYPE=image/jpeg:https://vailracquetclub.com/wp-content/uploads/woman-2573216_1280.jpg
END:VEVENT
BEGIN:VEVENT
DTSTART;TZID=America/New_York:20251201T083000
DTEND;TZID=America/New_York:20251201T093000
DTSTAMP:20260426T001629
CREATED:20250804T190254Z
LAST-MODIFIED:20251120T104251Z
UID:10001837-1764577800-1764581400@vailracquetclub.com
SUMMARY:Stretch & Roll (Sally)
DESCRIPTION:
URL:https://vailracquetclub.com/event/stretch-roll-sally/2025-12-01/
ATTACH;FMTTYPE=image/jpeg:https://vailracquetclub.com/wp-content/uploads/yoga-1146277_1280.jpg
END:VEVENT
BEGIN:VEVENT
DTSTART;TZID=America/New_York:20251201T063000
DTEND;TZID=America/New_York:20251201T073000
DTSTAMP:20260426T001629
CREATED:20250804T190252Z
LAST-MODIFIED:20260424T103135Z
UID:10001087-1764570600-1764574200@vailracquetclub.com
SUMMARY:Masters Swim (Katie)
DESCRIPTION:
URL:https://vailracquetclub.com/event/masters-swim-katie/2025-12-01/
ATTACH;FMTTYPE=image/jpeg:https://vailracquetclub.com/wp-content/uploads/swimming-3828274_1280.jpg
END:VEVENT
BEGIN:VEVENT
DTSTART;TZID=America/New_York:20251130T090000
DTEND;TZID=America/New_York:20251130T100000
DTSTAMP:20260426T001629
CREATED:20251119T131648Z
LAST-MODIFIED:20251120T102444Z
UID:10003676-1764493200-1764496800@vailracquetclub.com
SUMMARY:Yoga (Shayne)
DESCRIPTION:
URL:https://vailracquetclub.com/event/yoga-shayne-2/2025-11-30/
ATTACH;FMTTYPE=image/jpeg:https://vailracquetclub.com/wp-content/uploads/woman-2568410_1280.jpg
END:VEVENT
BEGIN:VEVENT
DTSTART;TZID=America/New_York:20251129T090000
DTEND;TZID=America/New_York:20251129T100000
DTSTAMP:20260426T001629
CREATED:20251119T131648Z
LAST-MODIFIED:20251120T102444Z
UID:10003675-1764406800-1764410400@vailracquetclub.com
SUMMARY:Yoga (Shayne)
DESCRIPTION:
URL:https://vailracquetclub.com/event/yoga-shayne-2/2025-11-29/
ATTACH;FMTTYPE=image/jpeg:https://vailracquetclub.com/wp-content/uploads/woman-2568410_1280.jpg
END:VEVENT
BEGIN:VEVENT
DTSTART;TZID=America/New_York:20251128T100000
DTEND;TZID=America/New_York:20251128T110000
DTSTAMP:20260426T001629
CREATED:20250804T190112Z
LAST-MODIFIED:20251119T132518Z
UID:10003144-1764324000-1764327600@vailracquetclub.com
SUMMARY:Pilates Mat (Lara)
DESCRIPTION:
URL:https://vailracquetclub.com/event/pilates-mat-lara/2025-11-28/
ATTACH;FMTTYPE=image/jpeg:https://vailracquetclub.com/wp-content/uploads/woman-2959213_1280.jpg
END:VEVENT
BEGIN:VEVENT
DTSTART;TZID=America/New_York:20251128T083000
DTEND;TZID=America/New_York:20251128T093000
DTSTAMP:20260426T001629
CREATED:20250804T190254Z
LAST-MODIFIED:20251120T104251Z
UID:10002882-1764318600-1764322200@vailracquetclub.com
SUMMARY:Stretch & Roll (Sally)
DESCRIPTION:
URL:https://vailracquetclub.com/event/stretch-roll-sally/2025-11-28/
ATTACH;FMTTYPE=image/jpeg:https://vailracquetclub.com/wp-content/uploads/yoga-1146277_1280.jpg
END:VEVENT
BEGIN:VEVENT
DTSTART;TZID=America/New_York:20251128T063000
DTEND;TZID=America/New_York:20251128T073000
DTSTAMP:20260426T001629
CREATED:20250804T190252Z
LAST-MODIFIED:20260424T103135Z
UID:10001086-1764311400-1764315000@vailracquetclub.com
SUMMARY:Masters Swim (Katie)
DESCRIPTION:
URL:https://vailracquetclub.com/event/masters-swim-katie/2025-11-28/
ATTACH;FMTTYPE=image/jpeg:https://vailracquetclub.com/wp-content/uploads/swimming-3828274_1280.jpg
END:VEVENT
BEGIN:VEVENT
DTSTART;TZID=America/New_York:20251126T063000
DTEND;TZID=America/New_York:20251126T073000
DTSTAMP:20260426T001629
CREATED:20250804T190252Z
LAST-MODIFIED:20260424T103135Z
UID:10001085-1764138600-1764142200@vailracquetclub.com
SUMMARY:Masters Swim (Katie)
DESCRIPTION:
URL:https://vailracquetclub.com/event/masters-swim-katie/2025-11-26/
ATTACH;FMTTYPE=image/jpeg:https://vailracquetclub.com/wp-content/uploads/swimming-3828274_1280.jpg
END:VEVENT
END:VCALENDAR