BEGIN:VCALENDAR
VERSION:2.0
PRODID:-//Vail Racquet Club - ECPv6.15.20//NONSGML v1.0//EN
CALSCALE:GREGORIAN
METHOD:PUBLISH
X-WR-CALNAME:Vail Racquet Club
X-ORIGINAL-URL:https://vailracquetclub.com
X-WR-CALDESC:Events for Vail Racquet Club
REFRESH-INTERVAL;VALUE=DURATION:PT1H
X-Robots-Tag:noindex
X-PUBLISHED-TTL:PT1H
BEGIN:VTIMEZONE
TZID:America/New_York
BEGIN:DAYLIGHT
TZOFFSETFROM:-0500
TZOFFSETTO:-0400
TZNAME:EDT
DTSTART:20250309T070000
END:DAYLIGHT
BEGIN:STANDARD
TZOFFSETFROM:-0400
TZOFFSETTO:-0500
TZNAME:EST
DTSTART:20251102T060000
END:STANDARD
BEGIN:DAYLIGHT
TZOFFSETFROM:-0500
TZOFFSETTO:-0400
TZNAME:EDT
DTSTART:20260308T070000
END:DAYLIGHT
BEGIN:STANDARD
TZOFFSETFROM:-0400
TZOFFSETTO:-0500
TZNAME:EST
DTSTART:20261101T060000
END:STANDARD
BEGIN:DAYLIGHT
TZOFFSETFROM:-0500
TZOFFSETTO:-0400
TZNAME:EDT
DTSTART:20270314T070000
END:DAYLIGHT
BEGIN:STANDARD
TZOFFSETFROM:-0400
TZOFFSETTO:-0500
TZNAME:EST
DTSTART:20271107T060000
END:STANDARD
END:VTIMEZONE
BEGIN:VEVENT
DTSTART;TZID=America/New_York:20260102T083000
DTEND;TZID=America/New_York:20260102T093000
DTSTAMP:20260426T001424
CREATED:20250804T190254Z
LAST-MODIFIED:20251120T104251Z
UID:10002887-1767342600-1767346200@vailracquetclub.com
SUMMARY:Stretch & Roll (Sally)
DESCRIPTION:
URL:https://vailracquetclub.com/event/stretch-roll-sally/2026-01-02/
ATTACH;FMTTYPE=image/jpeg:https://vailracquetclub.com/wp-content/uploads/yoga-1146277_1280.jpg
END:VEVENT
BEGIN:VEVENT
DTSTART;TZID=America/New_York:20260102T100000
DTEND;TZID=America/New_York:20260102T110000
DTSTAMP:20260426T001424
CREATED:20250804T190112Z
LAST-MODIFIED:20251119T132518Z
UID:10003149-1767348000-1767351600@vailracquetclub.com
SUMMARY:Pilates Mat (Lara)
DESCRIPTION:
URL:https://vailracquetclub.com/event/pilates-mat-lara/2026-01-02/
ATTACH;FMTTYPE=image/jpeg:https://vailracquetclub.com/wp-content/uploads/woman-2959213_1280.jpg
END:VEVENT
BEGIN:VEVENT
DTSTART;TZID=America/New_York:20260103T090000
DTEND;TZID=America/New_York:20260103T100000
DTSTAMP:20260426T001424
CREATED:20251119T131648Z
LAST-MODIFIED:20251120T102444Z
UID:10003685-1767430800-1767434400@vailracquetclub.com
SUMMARY:Yoga (Shayne)
DESCRIPTION:
URL:https://vailracquetclub.com/event/yoga-shayne-2/2026-01-03/
ATTACH;FMTTYPE=image/jpeg:https://vailracquetclub.com/wp-content/uploads/woman-2568410_1280.jpg
END:VEVENT
BEGIN:VEVENT
DTSTART;TZID=America/New_York:20260104T090000
DTEND;TZID=America/New_York:20260104T100000
DTSTAMP:20260426T001424
CREATED:20251119T131648Z
LAST-MODIFIED:20251120T102444Z
UID:10003686-1767517200-1767520800@vailracquetclub.com
SUMMARY:Yoga (Shayne)
DESCRIPTION:
URL:https://vailracquetclub.com/event/yoga-shayne-2/2026-01-04/
ATTACH;FMTTYPE=image/jpeg:https://vailracquetclub.com/wp-content/uploads/woman-2568410_1280.jpg
END:VEVENT
BEGIN:VEVENT
DTSTART;TZID=America/New_York:20260105T063000
DTEND;TZID=America/New_York:20260105T073000
DTSTAMP:20260426T001424
CREATED:20250804T190252Z
LAST-MODIFIED:20260424T103135Z
UID:10001102-1767594600-1767598200@vailracquetclub.com
SUMMARY:Masters Swim (Katie)
DESCRIPTION:
URL:https://vailracquetclub.com/event/masters-swim-katie/2026-01-05/
ATTACH;FMTTYPE=image/jpeg:https://vailracquetclub.com/wp-content/uploads/swimming-3828274_1280.jpg
END:VEVENT
BEGIN:VEVENT
DTSTART;TZID=America/New_York:20260105T083000
DTEND;TZID=America/New_York:20260105T093000
DTSTAMP:20260426T001424
CREATED:20250804T190254Z
LAST-MODIFIED:20251120T104251Z
UID:10001842-1767601800-1767605400@vailracquetclub.com
SUMMARY:Stretch & Roll (Sally)
DESCRIPTION:
URL:https://vailracquetclub.com/event/stretch-roll-sally/2026-01-05/
ATTACH;FMTTYPE=image/jpeg:https://vailracquetclub.com/wp-content/uploads/yoga-1146277_1280.jpg
END:VEVENT
BEGIN:VEVENT
DTSTART;TZID=America/New_York:20260106T120000
DTEND;TZID=America/New_York:20260106T130000
DTSTAMP:20260426T001424
CREATED:20250804T185907Z
LAST-MODIFIED:20251119T132926Z
UID:10000276-1767700800-1767704400@vailracquetclub.com
SUMMARY:Yoga (Betsy)
DESCRIPTION:
URL:https://vailracquetclub.com/event/yoga-betsy/2026-01-06/
ATTACH;FMTTYPE=image/jpeg:https://vailracquetclub.com/wp-content/uploads/woman-2573216_1280.jpg
END:VEVENT
BEGIN:VEVENT
DTSTART;TZID=America/New_York:20260107T063000
DTEND;TZID=America/New_York:20260107T073000
DTSTAMP:20260426T001424
CREATED:20250804T190252Z
LAST-MODIFIED:20260424T103135Z
UID:10001103-1767767400-1767771000@vailracquetclub.com
SUMMARY:Masters Swim (Katie)
DESCRIPTION:
URL:https://vailracquetclub.com/event/masters-swim-katie/2026-01-07/
ATTACH;FMTTYPE=image/jpeg:https://vailracquetclub.com/wp-content/uploads/swimming-3828274_1280.jpg
END:VEVENT
BEGIN:VEVENT
DTSTART;TZID=America/New_York:20260109T063000
DTEND;TZID=America/New_York:20260109T073000
DTSTAMP:20260426T001424
CREATED:20250804T190252Z
LAST-MODIFIED:20260424T103135Z
UID:10001104-1767940200-1767943800@vailracquetclub.com
SUMMARY:Masters Swim (Katie)
DESCRIPTION:
URL:https://vailracquetclub.com/event/masters-swim-katie/2026-01-09/
ATTACH;FMTTYPE=image/jpeg:https://vailracquetclub.com/wp-content/uploads/swimming-3828274_1280.jpg
END:VEVENT
BEGIN:VEVENT
DTSTART;TZID=America/New_York:20260109T083000
DTEND;TZID=America/New_York:20260109T093000
DTSTAMP:20260426T001424
CREATED:20250804T190254Z
LAST-MODIFIED:20251120T104251Z
UID:10002888-1767947400-1767951000@vailracquetclub.com
SUMMARY:Stretch & Roll (Sally)
DESCRIPTION:
URL:https://vailracquetclub.com/event/stretch-roll-sally/2026-01-09/
ATTACH;FMTTYPE=image/jpeg:https://vailracquetclub.com/wp-content/uploads/yoga-1146277_1280.jpg
END:VEVENT
BEGIN:VEVENT
DTSTART;TZID=America/New_York:20260109T100000
DTEND;TZID=America/New_York:20260109T110000
DTSTAMP:20260426T001424
CREATED:20250804T190112Z
LAST-MODIFIED:20251119T132518Z
UID:10003150-1767952800-1767956400@vailracquetclub.com
SUMMARY:Pilates Mat (Lara)
DESCRIPTION:
URL:https://vailracquetclub.com/event/pilates-mat-lara/2026-01-09/
ATTACH;FMTTYPE=image/jpeg:https://vailracquetclub.com/wp-content/uploads/woman-2959213_1280.jpg
END:VEVENT
BEGIN:VEVENT
DTSTART;TZID=America/New_York:20260110T090000
DTEND;TZID=America/New_York:20260110T100000
DTSTAMP:20260426T001424
CREATED:20251119T131648Z
LAST-MODIFIED:20251120T102444Z
UID:10003687-1768035600-1768039200@vailracquetclub.com
SUMMARY:Yoga (Shayne)
DESCRIPTION:
URL:https://vailracquetclub.com/event/yoga-shayne-2/2026-01-10/
ATTACH;FMTTYPE=image/jpeg:https://vailracquetclub.com/wp-content/uploads/woman-2568410_1280.jpg
END:VEVENT
BEGIN:VEVENT
DTSTART;TZID=America/New_York:20260111T090000
DTEND;TZID=America/New_York:20260111T100000
DTSTAMP:20260426T001424
CREATED:20251119T131648Z
LAST-MODIFIED:20251120T102444Z
UID:10003688-1768122000-1768125600@vailracquetclub.com
SUMMARY:Yoga (Shayne)
DESCRIPTION:
URL:https://vailracquetclub.com/event/yoga-shayne-2/2026-01-11/
ATTACH;FMTTYPE=image/jpeg:https://vailracquetclub.com/wp-content/uploads/woman-2568410_1280.jpg
END:VEVENT
BEGIN:VEVENT
DTSTART;TZID=America/New_York:20260112T063000
DTEND;TZID=America/New_York:20260112T073000
DTSTAMP:20260426T001424
CREATED:20250804T190252Z
LAST-MODIFIED:20260424T103135Z
UID:10001105-1768199400-1768203000@vailracquetclub.com
SUMMARY:Masters Swim (Katie)
DESCRIPTION:
URL:https://vailracquetclub.com/event/masters-swim-katie/2026-01-12/
ATTACH;FMTTYPE=image/jpeg:https://vailracquetclub.com/wp-content/uploads/swimming-3828274_1280.jpg
END:VEVENT
BEGIN:VEVENT
DTSTART;TZID=America/New_York:20260112T083000
DTEND;TZID=America/New_York:20260112T093000
DTSTAMP:20260426T001424
CREATED:20250804T190254Z
LAST-MODIFIED:20251120T104251Z
UID:10001843-1768206600-1768210200@vailracquetclub.com
SUMMARY:Stretch & Roll (Sally)
DESCRIPTION:
URL:https://vailracquetclub.com/event/stretch-roll-sally/2026-01-12/
ATTACH;FMTTYPE=image/jpeg:https://vailracquetclub.com/wp-content/uploads/yoga-1146277_1280.jpg
END:VEVENT
BEGIN:VEVENT
DTSTART;TZID=America/New_York:20260113T120000
DTEND;TZID=America/New_York:20260113T130000
DTSTAMP:20260426T001424
CREATED:20250804T185907Z
LAST-MODIFIED:20251119T132926Z
UID:10000277-1768305600-1768309200@vailracquetclub.com
SUMMARY:Yoga (Betsy)
DESCRIPTION:
URL:https://vailracquetclub.com/event/yoga-betsy/2026-01-13/
ATTACH;FMTTYPE=image/jpeg:https://vailracquetclub.com/wp-content/uploads/woman-2573216_1280.jpg
END:VEVENT
BEGIN:VEVENT
DTSTART;TZID=America/New_York:20260114T063000
DTEND;TZID=America/New_York:20260114T073000
DTSTAMP:20260426T001424
CREATED:20250804T190252Z
LAST-MODIFIED:20260424T103135Z
UID:10001106-1768372200-1768375800@vailracquetclub.com
SUMMARY:Masters Swim (Katie)
DESCRIPTION:
URL:https://vailracquetclub.com/event/masters-swim-katie/2026-01-14/
ATTACH;FMTTYPE=image/jpeg:https://vailracquetclub.com/wp-content/uploads/swimming-3828274_1280.jpg
END:VEVENT
BEGIN:VEVENT
DTSTART;TZID=America/New_York:20260116T063000
DTEND;TZID=America/New_York:20260116T073000
DTSTAMP:20260426T001424
CREATED:20250804T190252Z
LAST-MODIFIED:20260424T103135Z
UID:10001107-1768545000-1768548600@vailracquetclub.com
SUMMARY:Masters Swim (Katie)
DESCRIPTION:
URL:https://vailracquetclub.com/event/masters-swim-katie/2026-01-16/
ATTACH;FMTTYPE=image/jpeg:https://vailracquetclub.com/wp-content/uploads/swimming-3828274_1280.jpg
END:VEVENT
BEGIN:VEVENT
DTSTART;TZID=America/New_York:20260116T083000
DTEND;TZID=America/New_York:20260116T093000
DTSTAMP:20260426T001424
CREATED:20250804T190254Z
LAST-MODIFIED:20251120T104251Z
UID:10002889-1768552200-1768555800@vailracquetclub.com
SUMMARY:Stretch & Roll (Sally)
DESCRIPTION:
URL:https://vailracquetclub.com/event/stretch-roll-sally/2026-01-16/
ATTACH;FMTTYPE=image/jpeg:https://vailracquetclub.com/wp-content/uploads/yoga-1146277_1280.jpg
END:VEVENT
BEGIN:VEVENT
DTSTART;TZID=America/New_York:20260116T100000
DTEND;TZID=America/New_York:20260116T110000
DTSTAMP:20260426T001424
CREATED:20250804T190112Z
LAST-MODIFIED:20251119T132518Z
UID:10003151-1768557600-1768561200@vailracquetclub.com
SUMMARY:Pilates Mat (Lara)
DESCRIPTION:
URL:https://vailracquetclub.com/event/pilates-mat-lara/2026-01-16/
ATTACH;FMTTYPE=image/jpeg:https://vailracquetclub.com/wp-content/uploads/woman-2959213_1280.jpg
END:VEVENT
BEGIN:VEVENT
DTSTART;TZID=America/New_York:20260117T090000
DTEND;TZID=America/New_York:20260117T100000
DTSTAMP:20260426T001424
CREATED:20251119T131648Z
LAST-MODIFIED:20251120T102444Z
UID:10003689-1768640400-1768644000@vailracquetclub.com
SUMMARY:Yoga (Shayne)
DESCRIPTION:
URL:https://vailracquetclub.com/event/yoga-shayne-2/2026-01-17/
ATTACH;FMTTYPE=image/jpeg:https://vailracquetclub.com/wp-content/uploads/woman-2568410_1280.jpg
END:VEVENT
BEGIN:VEVENT
DTSTART;TZID=America/New_York:20260118T090000
DTEND;TZID=America/New_York:20260118T100000
DTSTAMP:20260426T001424
CREATED:20251119T131648Z
LAST-MODIFIED:20251120T102444Z
UID:10003690-1768726800-1768730400@vailracquetclub.com
SUMMARY:Yoga (Shayne)
DESCRIPTION:
URL:https://vailracquetclub.com/event/yoga-shayne-2/2026-01-18/
ATTACH;FMTTYPE=image/jpeg:https://vailracquetclub.com/wp-content/uploads/woman-2568410_1280.jpg
END:VEVENT
BEGIN:VEVENT
DTSTART;TZID=America/New_York:20260119T063000
DTEND;TZID=America/New_York:20260119T073000
DTSTAMP:20260426T001424
CREATED:20250804T190252Z
LAST-MODIFIED:20260424T103135Z
UID:10001108-1768804200-1768807800@vailracquetclub.com
SUMMARY:Masters Swim (Katie)
DESCRIPTION:
URL:https://vailracquetclub.com/event/masters-swim-katie/2026-01-19/
ATTACH;FMTTYPE=image/jpeg:https://vailracquetclub.com/wp-content/uploads/swimming-3828274_1280.jpg
END:VEVENT
BEGIN:VEVENT
DTSTART;TZID=America/New_York:20260119T083000
DTEND;TZID=America/New_York:20260119T093000
DTSTAMP:20260426T001424
CREATED:20250804T190254Z
LAST-MODIFIED:20251120T104251Z
UID:10001844-1768811400-1768815000@vailracquetclub.com
SUMMARY:Stretch & Roll (Sally)
DESCRIPTION:
URL:https://vailracquetclub.com/event/stretch-roll-sally/2026-01-19/
ATTACH;FMTTYPE=image/jpeg:https://vailracquetclub.com/wp-content/uploads/yoga-1146277_1280.jpg
END:VEVENT
BEGIN:VEVENT
DTSTART;TZID=America/New_York:20260120T120000
DTEND;TZID=America/New_York:20260120T130000
DTSTAMP:20260426T001424
CREATED:20250804T185907Z
LAST-MODIFIED:20251119T132926Z
UID:10000278-1768910400-1768914000@vailracquetclub.com
SUMMARY:Yoga (Betsy)
DESCRIPTION:
URL:https://vailracquetclub.com/event/yoga-betsy/2026-01-20/
ATTACH;FMTTYPE=image/jpeg:https://vailracquetclub.com/wp-content/uploads/woman-2573216_1280.jpg
END:VEVENT
BEGIN:VEVENT
DTSTART;TZID=America/New_York:20260121T063000
DTEND;TZID=America/New_York:20260121T073000
DTSTAMP:20260426T001424
CREATED:20250804T190252Z
LAST-MODIFIED:20260424T103135Z
UID:10001109-1768977000-1768980600@vailracquetclub.com
SUMMARY:Masters Swim (Katie)
DESCRIPTION:
URL:https://vailracquetclub.com/event/masters-swim-katie/2026-01-21/
ATTACH;FMTTYPE=image/jpeg:https://vailracquetclub.com/wp-content/uploads/swimming-3828274_1280.jpg
END:VEVENT
BEGIN:VEVENT
DTSTART;TZID=America/New_York:20260123T063000
DTEND;TZID=America/New_York:20260123T073000
DTSTAMP:20260426T001424
CREATED:20250804T190252Z
LAST-MODIFIED:20260424T103135Z
UID:10001110-1769149800-1769153400@vailracquetclub.com
SUMMARY:Masters Swim (Katie)
DESCRIPTION:
URL:https://vailracquetclub.com/event/masters-swim-katie/2026-01-23/
ATTACH;FMTTYPE=image/jpeg:https://vailracquetclub.com/wp-content/uploads/swimming-3828274_1280.jpg
END:VEVENT
BEGIN:VEVENT
DTSTART;TZID=America/New_York:20260123T083000
DTEND;TZID=America/New_York:20260123T093000
DTSTAMP:20260426T001424
CREATED:20250804T190254Z
LAST-MODIFIED:20251120T104251Z
UID:10002890-1769157000-1769160600@vailracquetclub.com
SUMMARY:Stretch & Roll (Sally)
DESCRIPTION:
URL:https://vailracquetclub.com/event/stretch-roll-sally/2026-01-23/
ATTACH;FMTTYPE=image/jpeg:https://vailracquetclub.com/wp-content/uploads/yoga-1146277_1280.jpg
END:VEVENT
BEGIN:VEVENT
DTSTART;TZID=America/New_York:20260123T100000
DTEND;TZID=America/New_York:20260123T110000
DTSTAMP:20260426T001424
CREATED:20250804T190112Z
LAST-MODIFIED:20251119T132518Z
UID:10003152-1769162400-1769166000@vailracquetclub.com
SUMMARY:Pilates Mat (Lara)
DESCRIPTION:
URL:https://vailracquetclub.com/event/pilates-mat-lara/2026-01-23/
ATTACH;FMTTYPE=image/jpeg:https://vailracquetclub.com/wp-content/uploads/woman-2959213_1280.jpg
END:VEVENT
BEGIN:VEVENT
DTSTART;TZID=America/New_York:20260124T090000
DTEND;TZID=America/New_York:20260124T100000
DTSTAMP:20260426T001424
CREATED:20251119T131648Z
LAST-MODIFIED:20251120T102444Z
UID:10003691-1769245200-1769248800@vailracquetclub.com
SUMMARY:Yoga (Shayne)
DESCRIPTION:
URL:https://vailracquetclub.com/event/yoga-shayne-2/2026-01-24/
ATTACH;FMTTYPE=image/jpeg:https://vailracquetclub.com/wp-content/uploads/woman-2568410_1280.jpg
END:VEVENT
END:VCALENDAR