BEGIN:VCALENDAR
VERSION:2.0
PRODID:-//Vail Racquet Club - ECPv6.15.20//NONSGML v1.0//EN
CALSCALE:GREGORIAN
METHOD:PUBLISH
X-ORIGINAL-URL:https://vailracquetclub.com
X-WR-CALDESC:Events for Vail Racquet Club
REFRESH-INTERVAL;VALUE=DURATION:PT1H
X-Robots-Tag:noindex
X-PUBLISHED-TTL:PT1H
BEGIN:VTIMEZONE
TZID:America/New_York
BEGIN:DAYLIGHT
TZOFFSETFROM:-0500
TZOFFSETTO:-0400
TZNAME:EDT
DTSTART:20250309T070000
END:DAYLIGHT
BEGIN:STANDARD
TZOFFSETFROM:-0400
TZOFFSETTO:-0500
TZNAME:EST
DTSTART:20251102T060000
END:STANDARD
BEGIN:DAYLIGHT
TZOFFSETFROM:-0500
TZOFFSETTO:-0400
TZNAME:EDT
DTSTART:20260308T070000
END:DAYLIGHT
BEGIN:STANDARD
TZOFFSETFROM:-0400
TZOFFSETTO:-0500
TZNAME:EST
DTSTART:20261101T060000
END:STANDARD
BEGIN:DAYLIGHT
TZOFFSETFROM:-0500
TZOFFSETTO:-0400
TZNAME:EDT
DTSTART:20270314T070000
END:DAYLIGHT
BEGIN:STANDARD
TZOFFSETFROM:-0400
TZOFFSETTO:-0500
TZNAME:EST
DTSTART:20271107T060000
END:STANDARD
END:VTIMEZONE
BEGIN:VEVENT
DTSTART;TZID=America/New_York:20260628T080000
DTEND;TZID=America/New_York:20260628T090000
DTSTAMP:20260422T201244
CREATED:20260204T171520Z
LAST-MODIFIED:20260204T171520Z
UID:10005443-1782633600-1782637200@vailracquetclub.com
SUMMARY:Barre (Madeline)
DESCRIPTION:
URL:https://vailracquetclub.com/event/barre-madeline/2026-06-28/
END:VEVENT
BEGIN:VEVENT
DTSTART;TZID=America/New_York:20260629T063000
DTEND;TZID=America/New_York:20260629T073000
DTSTAMP:20260422T201244
CREATED:20250804T190252Z
LAST-MODIFIED:20251119T132740Z
UID:10001177-1782714600-1782718200@vailracquetclub.com
SUMMARY:Masters Swim (Katie)
DESCRIPTION:
URL:https://vailracquetclub.com/event/masters-swim-katie/2026-06-29/
ATTACH;FMTTYPE=image/jpeg:https://vailracquetclub.com/wp-content/uploads/swimming-3828274_1280.jpg
END:VEVENT
BEGIN:VEVENT
DTSTART;TZID=America/New_York:20260629T083000
DTEND;TZID=America/New_York:20260629T093000
DTSTAMP:20260422T201244
CREATED:20260204T165808Z
LAST-MODIFIED:20260204T165808Z
UID:10001867-1782721800-1782725400@vailracquetclub.com
SUMMARY:Stretch & Roll (Sally)
DESCRIPTION:
URL:https://vailracquetclub.com/event/stretch-roll-sally-2/2026-06-29/
ATTACH;FMTTYPE=image/jpeg:https://vailracquetclub.com/wp-content/uploads/yoga-1146277_1280.jpg
END:VEVENT
BEGIN:VEVENT
DTSTART;TZID=America/New_York:20260630T163000
DTEND;TZID=America/New_York:20260630T173000
DTSTAMP:20260422T201244
CREATED:20260414T211631Z
LAST-MODIFIED:20260414T211631Z
UID:10005726-1782837000-1782840600@vailracquetclub.com
SUMMARY:TRX (Betsy)
DESCRIPTION:
URL:https://vailracquetclub.com/event/trx-betsy-2/2026-06-30/
END:VEVENT
BEGIN:VEVENT
DTSTART;TZID=America/New_York:20260701T063000
DTEND;TZID=America/New_York:20260701T073000
DTSTAMP:20260422T201244
CREATED:20250804T190252Z
LAST-MODIFIED:20251119T132740Z
UID:10001178-1782887400-1782891000@vailracquetclub.com
SUMMARY:Masters Swim (Katie)
DESCRIPTION:
URL:https://vailracquetclub.com/event/masters-swim-katie/2026-07-01/
ATTACH;FMTTYPE=image/jpeg:https://vailracquetclub.com/wp-content/uploads/swimming-3828274_1280.jpg
END:VEVENT
BEGIN:VEVENT
DTSTART;TZID=America/New_York:20260701T180000
DTEND;TZID=America/New_York:20260701T190000
DTSTAMP:20260422T201244
CREATED:20260204T171003Z
LAST-MODIFIED:20260204T171044Z
UID:10004661-1782928800-1782932400@vailracquetclub.com
SUMMARY:Yoga (Noah)
DESCRIPTION:
URL:https://vailracquetclub.com/event/yoga-noah/2026-07-01/
END:VEVENT
BEGIN:VEVENT
DTSTART;TZID=America/New_York:20260702T083000
DTEND;TZID=America/New_York:20260702T093000
DTSTAMP:20260422T201244
CREATED:20260414T212630Z
LAST-MODIFIED:20260414T214047Z
UID:10006498-1782981000-1782984600@vailracquetclub.com
SUMMARY:Yoga (Shayne)
DESCRIPTION:
URL:https://vailracquetclub.com/event/yoga-kelly-2/2026-07-02/
END:VEVENT
BEGIN:VEVENT
DTSTART;TZID=America/New_York:20260702T163000
DTEND;TZID=America/New_York:20260702T173000
DTSTAMP:20260422T201244
CREATED:20260414T211631Z
LAST-MODIFIED:20260414T211631Z
UID:10005727-1783009800-1783013400@vailracquetclub.com
SUMMARY:TRX (Betsy)
DESCRIPTION:
URL:https://vailracquetclub.com/event/trx-betsy-2/2026-07-02/
END:VEVENT
BEGIN:VEVENT
DTSTART;TZID=America/New_York:20260702T173000
DTEND;TZID=America/New_York:20260702T183000
DTSTAMP:20260422T201244
CREATED:20260204T170048Z
LAST-MODIFIED:20260204T170446Z
UID:10004389-1783013400-1783017000@vailracquetclub.com
SUMMARY:Yoga (Betsy)
DESCRIPTION:
URL:https://vailracquetclub.com/event/yoga-betsy-2/2026-07-02/
ATTACH;FMTTYPE=image/jpeg:https://vailracquetclub.com/wp-content/uploads/woman-2573216_1280.jpg
END:VEVENT
BEGIN:VEVENT
DTSTART;TZID=America/New_York:20260703T063000
DTEND;TZID=America/New_York:20260703T073000
DTSTAMP:20260422T201244
CREATED:20250804T190252Z
LAST-MODIFIED:20251119T132740Z
UID:10001179-1783060200-1783063800@vailracquetclub.com
SUMMARY:Masters Swim (Katie)
DESCRIPTION:
URL:https://vailracquetclub.com/event/masters-swim-katie/2026-07-03/
ATTACH;FMTTYPE=image/jpeg:https://vailracquetclub.com/wp-content/uploads/swimming-3828274_1280.jpg
END:VEVENT
BEGIN:VEVENT
DTSTART;TZID=America/New_York:20260705T080000
DTEND;TZID=America/New_York:20260705T090000
DTSTAMP:20260422T201244
CREATED:20260204T171520Z
LAST-MODIFIED:20260204T171520Z
UID:10005444-1783238400-1783242000@vailracquetclub.com
SUMMARY:Barre (Madeline)
DESCRIPTION:
URL:https://vailracquetclub.com/event/barre-madeline/2026-07-05/
END:VEVENT
BEGIN:VEVENT
DTSTART;TZID=America/New_York:20260706T063000
DTEND;TZID=America/New_York:20260706T073000
DTSTAMP:20260422T201244
CREATED:20250804T190252Z
LAST-MODIFIED:20251119T132740Z
UID:10001180-1783319400-1783323000@vailracquetclub.com
SUMMARY:Masters Swim (Katie)
DESCRIPTION:
URL:https://vailracquetclub.com/event/masters-swim-katie/2026-07-06/
ATTACH;FMTTYPE=image/jpeg:https://vailracquetclub.com/wp-content/uploads/swimming-3828274_1280.jpg
END:VEVENT
BEGIN:VEVENT
DTSTART;TZID=America/New_York:20260706T083000
DTEND;TZID=America/New_York:20260706T093000
DTSTAMP:20260422T201244
CREATED:20260204T165808Z
LAST-MODIFIED:20260204T165808Z
UID:10001868-1783326600-1783330200@vailracquetclub.com
SUMMARY:Stretch & Roll (Sally)
DESCRIPTION:
URL:https://vailracquetclub.com/event/stretch-roll-sally-2/2026-07-06/
ATTACH;FMTTYPE=image/jpeg:https://vailracquetclub.com/wp-content/uploads/yoga-1146277_1280.jpg
END:VEVENT
BEGIN:VEVENT
DTSTART;TZID=America/New_York:20260707T163000
DTEND;TZID=America/New_York:20260707T173000
DTSTAMP:20260422T201244
CREATED:20260414T211631Z
LAST-MODIFIED:20260414T211631Z
UID:10005728-1783441800-1783445400@vailracquetclub.com
SUMMARY:TRX (Betsy)
DESCRIPTION:
URL:https://vailracquetclub.com/event/trx-betsy-2/2026-07-07/
END:VEVENT
BEGIN:VEVENT
DTSTART;TZID=America/New_York:20260708T063000
DTEND;TZID=America/New_York:20260708T073000
DTSTAMP:20260422T201244
CREATED:20250804T190252Z
LAST-MODIFIED:20251119T132740Z
UID:10001181-1783492200-1783495800@vailracquetclub.com
SUMMARY:Masters Swim (Katie)
DESCRIPTION:
URL:https://vailracquetclub.com/event/masters-swim-katie/2026-07-08/
ATTACH;FMTTYPE=image/jpeg:https://vailracquetclub.com/wp-content/uploads/swimming-3828274_1280.jpg
END:VEVENT
BEGIN:VEVENT
DTSTART;TZID=America/New_York:20260708T180000
DTEND;TZID=America/New_York:20260708T190000
DTSTAMP:20260422T201244
CREATED:20260204T171003Z
LAST-MODIFIED:20260204T171044Z
UID:10004662-1783533600-1783537200@vailracquetclub.com
SUMMARY:Yoga (Noah)
DESCRIPTION:
URL:https://vailracquetclub.com/event/yoga-noah/2026-07-08/
END:VEVENT
BEGIN:VEVENT
DTSTART;TZID=America/New_York:20260709T083000
DTEND;TZID=America/New_York:20260709T093000
DTSTAMP:20260422T201244
CREATED:20260414T212630Z
LAST-MODIFIED:20260414T214047Z
UID:10006499-1783585800-1783589400@vailracquetclub.com
SUMMARY:Yoga (Shayne)
DESCRIPTION:
URL:https://vailracquetclub.com/event/yoga-kelly-2/2026-07-09/
END:VEVENT
BEGIN:VEVENT
DTSTART;TZID=America/New_York:20260709T163000
DTEND;TZID=America/New_York:20260709T173000
DTSTAMP:20260422T201244
CREATED:20260414T211631Z
LAST-MODIFIED:20260414T211631Z
UID:10005729-1783614600-1783618200@vailracquetclub.com
SUMMARY:TRX (Betsy)
DESCRIPTION:
URL:https://vailracquetclub.com/event/trx-betsy-2/2026-07-09/
END:VEVENT
BEGIN:VEVENT
DTSTART;TZID=America/New_York:20260709T173000
DTEND;TZID=America/New_York:20260709T183000
DTSTAMP:20260422T201244
CREATED:20260204T170048Z
LAST-MODIFIED:20260204T170446Z
UID:10004390-1783618200-1783621800@vailracquetclub.com
SUMMARY:Yoga (Betsy)
DESCRIPTION:
URL:https://vailracquetclub.com/event/yoga-betsy-2/2026-07-09/
ATTACH;FMTTYPE=image/jpeg:https://vailracquetclub.com/wp-content/uploads/woman-2573216_1280.jpg
END:VEVENT
BEGIN:VEVENT
DTSTART;TZID=America/New_York:20260710T063000
DTEND;TZID=America/New_York:20260710T073000
DTSTAMP:20260422T201244
CREATED:20250804T190252Z
LAST-MODIFIED:20251119T132740Z
UID:10001182-1783665000-1783668600@vailracquetclub.com
SUMMARY:Masters Swim (Katie)
DESCRIPTION:
URL:https://vailracquetclub.com/event/masters-swim-katie/2026-07-10/
ATTACH;FMTTYPE=image/jpeg:https://vailracquetclub.com/wp-content/uploads/swimming-3828274_1280.jpg
END:VEVENT
BEGIN:VEVENT
DTSTART;TZID=America/New_York:20260712T080000
DTEND;TZID=America/New_York:20260712T090000
DTSTAMP:20260422T201244
CREATED:20260204T171520Z
LAST-MODIFIED:20260204T171520Z
UID:10005445-1783843200-1783846800@vailracquetclub.com
SUMMARY:Barre (Madeline)
DESCRIPTION:
URL:https://vailracquetclub.com/event/barre-madeline/2026-07-12/
END:VEVENT
BEGIN:VEVENT
DTSTART;TZID=America/New_York:20260713T063000
DTEND;TZID=America/New_York:20260713T073000
DTSTAMP:20260422T201244
CREATED:20250804T190252Z
LAST-MODIFIED:20251119T132740Z
UID:10001183-1783924200-1783927800@vailracquetclub.com
SUMMARY:Masters Swim (Katie)
DESCRIPTION:
URL:https://vailracquetclub.com/event/masters-swim-katie/2026-07-13/
ATTACH;FMTTYPE=image/jpeg:https://vailracquetclub.com/wp-content/uploads/swimming-3828274_1280.jpg
END:VEVENT
BEGIN:VEVENT
DTSTART;TZID=America/New_York:20260713T083000
DTEND;TZID=America/New_York:20260713T093000
DTSTAMP:20260422T201244
CREATED:20260204T165808Z
LAST-MODIFIED:20260204T165808Z
UID:10001869-1783931400-1783935000@vailracquetclub.com
SUMMARY:Stretch & Roll (Sally)
DESCRIPTION:
URL:https://vailracquetclub.com/event/stretch-roll-sally-2/2026-07-13/
ATTACH;FMTTYPE=image/jpeg:https://vailracquetclub.com/wp-content/uploads/yoga-1146277_1280.jpg
END:VEVENT
BEGIN:VEVENT
DTSTART;TZID=America/New_York:20260714T163000
DTEND;TZID=America/New_York:20260714T173000
DTSTAMP:20260422T201244
CREATED:20260414T211631Z
LAST-MODIFIED:20260414T211631Z
UID:10005730-1784046600-1784050200@vailracquetclub.com
SUMMARY:TRX (Betsy)
DESCRIPTION:
URL:https://vailracquetclub.com/event/trx-betsy-2/2026-07-14/
END:VEVENT
BEGIN:VEVENT
DTSTART;TZID=America/New_York:20260715T063000
DTEND;TZID=America/New_York:20260715T073000
DTSTAMP:20260422T201244
CREATED:20250804T190252Z
LAST-MODIFIED:20251119T132740Z
UID:10001184-1784097000-1784100600@vailracquetclub.com
SUMMARY:Masters Swim (Katie)
DESCRIPTION:
URL:https://vailracquetclub.com/event/masters-swim-katie/2026-07-15/
ATTACH;FMTTYPE=image/jpeg:https://vailracquetclub.com/wp-content/uploads/swimming-3828274_1280.jpg
END:VEVENT
BEGIN:VEVENT
DTSTART;TZID=America/New_York:20260715T180000
DTEND;TZID=America/New_York:20260715T190000
DTSTAMP:20260422T201244
CREATED:20260204T171003Z
LAST-MODIFIED:20260204T171044Z
UID:10004663-1784138400-1784142000@vailracquetclub.com
SUMMARY:Yoga (Noah)
DESCRIPTION:
URL:https://vailracquetclub.com/event/yoga-noah/2026-07-15/
END:VEVENT
BEGIN:VEVENT
DTSTART;TZID=America/New_York:20260716T083000
DTEND;TZID=America/New_York:20260716T093000
DTSTAMP:20260422T201244
CREATED:20260414T212630Z
LAST-MODIFIED:20260414T214047Z
UID:10006500-1784190600-1784194200@vailracquetclub.com
SUMMARY:Yoga (Shayne)
DESCRIPTION:
URL:https://vailracquetclub.com/event/yoga-kelly-2/2026-07-16/
END:VEVENT
BEGIN:VEVENT
DTSTART;TZID=America/New_York:20260716T163000
DTEND;TZID=America/New_York:20260716T173000
DTSTAMP:20260422T201244
CREATED:20260414T211631Z
LAST-MODIFIED:20260414T211631Z
UID:10005731-1784219400-1784223000@vailracquetclub.com
SUMMARY:TRX (Betsy)
DESCRIPTION:
URL:https://vailracquetclub.com/event/trx-betsy-2/2026-07-16/
END:VEVENT
BEGIN:VEVENT
DTSTART;TZID=America/New_York:20260716T173000
DTEND;TZID=America/New_York:20260716T183000
DTSTAMP:20260422T201244
CREATED:20260204T170048Z
LAST-MODIFIED:20260204T170446Z
UID:10004391-1784223000-1784226600@vailracquetclub.com
SUMMARY:Yoga (Betsy)
DESCRIPTION:
URL:https://vailracquetclub.com/event/yoga-betsy-2/2026-07-16/
ATTACH;FMTTYPE=image/jpeg:https://vailracquetclub.com/wp-content/uploads/woman-2573216_1280.jpg
END:VEVENT
BEGIN:VEVENT
DTSTART;TZID=America/New_York:20260717T063000
DTEND;TZID=America/New_York:20260717T073000
DTSTAMP:20260422T201244
CREATED:20250804T190252Z
LAST-MODIFIED:20251119T132740Z
UID:10001185-1784269800-1784273400@vailracquetclub.com
SUMMARY:Masters Swim (Katie)
DESCRIPTION:
URL:https://vailracquetclub.com/event/masters-swim-katie/2026-07-17/
ATTACH;FMTTYPE=image/jpeg:https://vailracquetclub.com/wp-content/uploads/swimming-3828274_1280.jpg
END:VEVENT
END:VCALENDAR