BEGIN:VCALENDAR
VERSION:2.0
PRODID:-//Vail Racquet Club - ECPv6.15.20//NONSGML v1.0//EN
CALSCALE:GREGORIAN
METHOD:PUBLISH
X-WR-CALNAME:Vail Racquet Club
X-ORIGINAL-URL:https://vailracquetclub.com
X-WR-CALDESC:Events for Vail Racquet Club
REFRESH-INTERVAL;VALUE=DURATION:PT1H
X-Robots-Tag:noindex
X-PUBLISHED-TTL:PT1H
BEGIN:VTIMEZONE
TZID:America/New_York
BEGIN:DAYLIGHT
TZOFFSETFROM:-0500
TZOFFSETTO:-0400
TZNAME:EDT
DTSTART:20250309T070000
END:DAYLIGHT
BEGIN:STANDARD
TZOFFSETFROM:-0400
TZOFFSETTO:-0500
TZNAME:EST
DTSTART:20251102T060000
END:STANDARD
BEGIN:DAYLIGHT
TZOFFSETFROM:-0500
TZOFFSETTO:-0400
TZNAME:EDT
DTSTART:20260308T070000
END:DAYLIGHT
BEGIN:STANDARD
TZOFFSETFROM:-0400
TZOFFSETTO:-0500
TZNAME:EST
DTSTART:20261101T060000
END:STANDARD
BEGIN:DAYLIGHT
TZOFFSETFROM:-0500
TZOFFSETTO:-0400
TZNAME:EDT
DTSTART:20270314T070000
END:DAYLIGHT
BEGIN:STANDARD
TZOFFSETFROM:-0400
TZOFFSETTO:-0500
TZNAME:EST
DTSTART:20271107T060000
END:STANDARD
END:VTIMEZONE
BEGIN:VEVENT
DTSTART;TZID=America/New_York:20260505T163000
DTEND;TZID=America/New_York:20260505T173000
DTSTAMP:20260421T012526
CREATED:20260414T211631Z
LAST-MODIFIED:20260414T211631Z
UID:10005710-1777998600-1778002200@vailracquetclub.com
SUMMARY:TRX (Betsy)
DESCRIPTION:
URL:https://vailracquetclub.com/event/trx-betsy-2/2026-05-05/
END:VEVENT
BEGIN:VEVENT
DTSTART;TZID=America/New_York:20260506T063000
DTEND;TZID=America/New_York:20260506T073000
DTSTAMP:20260421T012526
CREATED:20250804T190252Z
LAST-MODIFIED:20251119T132740Z
UID:10001154-1778049000-1778052600@vailracquetclub.com
SUMMARY:Masters Swim (Katie)
DESCRIPTION:
URL:https://vailracquetclub.com/event/masters-swim-katie/2026-05-06/
ATTACH;FMTTYPE=image/jpeg:https://vailracquetclub.com/wp-content/uploads/swimming-3828274_1280.jpg
END:VEVENT
BEGIN:VEVENT
DTSTART;TZID=America/New_York:20260506T180000
DTEND;TZID=America/New_York:20260506T190000
DTSTAMP:20260421T012526
CREATED:20260204T171003Z
LAST-MODIFIED:20260204T171044Z
UID:10004653-1778090400-1778094000@vailracquetclub.com
SUMMARY:Yoga (Noah)
DESCRIPTION:
URL:https://vailracquetclub.com/event/yoga-noah/2026-05-06/
END:VEVENT
BEGIN:VEVENT
DTSTART;TZID=America/New_York:20260507T083000
DTEND;TZID=America/New_York:20260507T093000
DTSTAMP:20260421T012526
CREATED:20260414T212630Z
LAST-MODIFIED:20260414T214047Z
UID:10006490-1778142600-1778146200@vailracquetclub.com
SUMMARY:Yoga (Shayne)
DESCRIPTION:
URL:https://vailracquetclub.com/event/yoga-kelly-2/2026-05-07/
END:VEVENT
BEGIN:VEVENT
DTSTART;TZID=America/New_York:20260507T163000
DTEND;TZID=America/New_York:20260507T173000
DTSTAMP:20260421T012526
CREATED:20260414T211631Z
LAST-MODIFIED:20260414T211631Z
UID:10005711-1778171400-1778175000@vailracquetclub.com
SUMMARY:TRX (Betsy)
DESCRIPTION:
URL:https://vailracquetclub.com/event/trx-betsy-2/2026-05-07/
END:VEVENT
BEGIN:VEVENT
DTSTART;TZID=America/New_York:20260507T173000
DTEND;TZID=America/New_York:20260507T183000
DTSTAMP:20260421T012526
CREATED:20260204T170048Z
LAST-MODIFIED:20260204T170446Z
UID:10004381-1778175000-1778178600@vailracquetclub.com
SUMMARY:Yoga (Betsy)
DESCRIPTION:
URL:https://vailracquetclub.com/event/yoga-betsy-2/2026-05-07/
ATTACH;FMTTYPE=image/jpeg:https://vailracquetclub.com/wp-content/uploads/woman-2573216_1280.jpg
END:VEVENT
BEGIN:VEVENT
DTSTART;TZID=America/New_York:20260508T063000
DTEND;TZID=America/New_York:20260508T073000
DTSTAMP:20260421T012526
CREATED:20250804T190252Z
LAST-MODIFIED:20251119T132740Z
UID:10001155-1778221800-1778225400@vailracquetclub.com
SUMMARY:Masters Swim (Katie)
DESCRIPTION:
URL:https://vailracquetclub.com/event/masters-swim-katie/2026-05-08/
ATTACH;FMTTYPE=image/jpeg:https://vailracquetclub.com/wp-content/uploads/swimming-3828274_1280.jpg
END:VEVENT
BEGIN:VEVENT
DTSTART;TZID=America/New_York:20260510T080000
DTEND;TZID=America/New_York:20260510T090000
DTSTAMP:20260421T012526
CREATED:20260204T171520Z
LAST-MODIFIED:20260204T171520Z
UID:10005436-1778400000-1778403600@vailracquetclub.com
SUMMARY:Barre (Madeline)
DESCRIPTION:
URL:https://vailracquetclub.com/event/barre-madeline/2026-05-10/
END:VEVENT
BEGIN:VEVENT
DTSTART;TZID=America/New_York:20260511T063000
DTEND;TZID=America/New_York:20260511T073000
DTSTAMP:20260421T012526
CREATED:20250804T190252Z
LAST-MODIFIED:20251119T132740Z
UID:10001156-1778481000-1778484600@vailracquetclub.com
SUMMARY:Masters Swim (Katie)
DESCRIPTION:
URL:https://vailracquetclub.com/event/masters-swim-katie/2026-05-11/
ATTACH;FMTTYPE=image/jpeg:https://vailracquetclub.com/wp-content/uploads/swimming-3828274_1280.jpg
END:VEVENT
BEGIN:VEVENT
DTSTART;TZID=America/New_York:20260511T083000
DTEND;TZID=America/New_York:20260511T093000
DTSTAMP:20260421T012526
CREATED:20260204T165808Z
LAST-MODIFIED:20260204T165808Z
UID:10001860-1778488200-1778491800@vailracquetclub.com
SUMMARY:Stretch & Roll (Sally)
DESCRIPTION:
URL:https://vailracquetclub.com/event/stretch-roll-sally-2/2026-05-11/
ATTACH;FMTTYPE=image/jpeg:https://vailracquetclub.com/wp-content/uploads/yoga-1146277_1280.jpg
END:VEVENT
BEGIN:VEVENT
DTSTART;TZID=America/New_York:20260512T163000
DTEND;TZID=America/New_York:20260512T173000
DTSTAMP:20260421T012526
CREATED:20260414T211631Z
LAST-MODIFIED:20260414T211631Z
UID:10005712-1778603400-1778607000@vailracquetclub.com
SUMMARY:TRX (Betsy)
DESCRIPTION:
URL:https://vailracquetclub.com/event/trx-betsy-2/2026-05-12/
END:VEVENT
BEGIN:VEVENT
DTSTART;TZID=America/New_York:20260513T063000
DTEND;TZID=America/New_York:20260513T073000
DTSTAMP:20260421T012526
CREATED:20250804T190252Z
LAST-MODIFIED:20251119T132740Z
UID:10001157-1778653800-1778657400@vailracquetclub.com
SUMMARY:Masters Swim (Katie)
DESCRIPTION:
URL:https://vailracquetclub.com/event/masters-swim-katie/2026-05-13/
ATTACH;FMTTYPE=image/jpeg:https://vailracquetclub.com/wp-content/uploads/swimming-3828274_1280.jpg
END:VEVENT
BEGIN:VEVENT
DTSTART;TZID=America/New_York:20260513T180000
DTEND;TZID=America/New_York:20260513T190000
DTSTAMP:20260421T012526
CREATED:20260204T171003Z
LAST-MODIFIED:20260204T171044Z
UID:10004654-1778695200-1778698800@vailracquetclub.com
SUMMARY:Yoga (Noah)
DESCRIPTION:
URL:https://vailracquetclub.com/event/yoga-noah/2026-05-13/
END:VEVENT
BEGIN:VEVENT
DTSTART;TZID=America/New_York:20260514T083000
DTEND;TZID=America/New_York:20260514T093000
DTSTAMP:20260421T012526
CREATED:20260414T212630Z
LAST-MODIFIED:20260414T214047Z
UID:10006491-1778747400-1778751000@vailracquetclub.com
SUMMARY:Yoga (Shayne)
DESCRIPTION:
URL:https://vailracquetclub.com/event/yoga-kelly-2/2026-05-14/
END:VEVENT
BEGIN:VEVENT
DTSTART;TZID=America/New_York:20260514T163000
DTEND;TZID=America/New_York:20260514T173000
DTSTAMP:20260421T012526
CREATED:20260414T211631Z
LAST-MODIFIED:20260414T211631Z
UID:10005713-1778776200-1778779800@vailracquetclub.com
SUMMARY:TRX (Betsy)
DESCRIPTION:
URL:https://vailracquetclub.com/event/trx-betsy-2/2026-05-14/
END:VEVENT
BEGIN:VEVENT
DTSTART;TZID=America/New_York:20260514T173000
DTEND;TZID=America/New_York:20260514T183000
DTSTAMP:20260421T012526
CREATED:20260204T170048Z
LAST-MODIFIED:20260204T170446Z
UID:10004382-1778779800-1778783400@vailracquetclub.com
SUMMARY:Yoga (Betsy)
DESCRIPTION:
URL:https://vailracquetclub.com/event/yoga-betsy-2/2026-05-14/
ATTACH;FMTTYPE=image/jpeg:https://vailracquetclub.com/wp-content/uploads/woman-2573216_1280.jpg
END:VEVENT
BEGIN:VEVENT
DTSTART;TZID=America/New_York:20260515T063000
DTEND;TZID=America/New_York:20260515T073000
DTSTAMP:20260421T012526
CREATED:20250804T190252Z
LAST-MODIFIED:20251119T132740Z
UID:10001158-1778826600-1778830200@vailracquetclub.com
SUMMARY:Masters Swim (Katie)
DESCRIPTION:
URL:https://vailracquetclub.com/event/masters-swim-katie/2026-05-15/
ATTACH;FMTTYPE=image/jpeg:https://vailracquetclub.com/wp-content/uploads/swimming-3828274_1280.jpg
END:VEVENT
BEGIN:VEVENT
DTSTART;TZID=America/New_York:20260517T080000
DTEND;TZID=America/New_York:20260517T090000
DTSTAMP:20260421T012526
CREATED:20260204T171520Z
LAST-MODIFIED:20260204T171520Z
UID:10005437-1779004800-1779008400@vailracquetclub.com
SUMMARY:Barre (Madeline)
DESCRIPTION:
URL:https://vailracquetclub.com/event/barre-madeline/2026-05-17/
END:VEVENT
BEGIN:VEVENT
DTSTART;TZID=America/New_York:20260518T063000
DTEND;TZID=America/New_York:20260518T073000
DTSTAMP:20260421T012526
CREATED:20250804T190252Z
LAST-MODIFIED:20251119T132740Z
UID:10001159-1779085800-1779089400@vailracquetclub.com
SUMMARY:Masters Swim (Katie)
DESCRIPTION:
URL:https://vailracquetclub.com/event/masters-swim-katie/2026-05-18/
ATTACH;FMTTYPE=image/jpeg:https://vailracquetclub.com/wp-content/uploads/swimming-3828274_1280.jpg
END:VEVENT
BEGIN:VEVENT
DTSTART;TZID=America/New_York:20260518T083000
DTEND;TZID=America/New_York:20260518T093000
DTSTAMP:20260421T012526
CREATED:20260204T165808Z
LAST-MODIFIED:20260204T165808Z
UID:10001861-1779093000-1779096600@vailracquetclub.com
SUMMARY:Stretch & Roll (Sally)
DESCRIPTION:
URL:https://vailracquetclub.com/event/stretch-roll-sally-2/2026-05-18/
ATTACH;FMTTYPE=image/jpeg:https://vailracquetclub.com/wp-content/uploads/yoga-1146277_1280.jpg
END:VEVENT
BEGIN:VEVENT
DTSTART;TZID=America/New_York:20260519T163000
DTEND;TZID=America/New_York:20260519T173000
DTSTAMP:20260421T012526
CREATED:20260414T211631Z
LAST-MODIFIED:20260414T211631Z
UID:10005714-1779208200-1779211800@vailracquetclub.com
SUMMARY:TRX (Betsy)
DESCRIPTION:
URL:https://vailracquetclub.com/event/trx-betsy-2/2026-05-19/
END:VEVENT
BEGIN:VEVENT
DTSTART;TZID=America/New_York:20260520T063000
DTEND;TZID=America/New_York:20260520T073000
DTSTAMP:20260421T012526
CREATED:20250804T190252Z
LAST-MODIFIED:20251119T132740Z
UID:10001160-1779258600-1779262200@vailracquetclub.com
SUMMARY:Masters Swim (Katie)
DESCRIPTION:
URL:https://vailracquetclub.com/event/masters-swim-katie/2026-05-20/
ATTACH;FMTTYPE=image/jpeg:https://vailracquetclub.com/wp-content/uploads/swimming-3828274_1280.jpg
END:VEVENT
BEGIN:VEVENT
DTSTART;TZID=America/New_York:20260520T180000
DTEND;TZID=America/New_York:20260520T190000
DTSTAMP:20260421T012526
CREATED:20260204T171003Z
LAST-MODIFIED:20260204T171044Z
UID:10004655-1779300000-1779303600@vailracquetclub.com
SUMMARY:Yoga (Noah)
DESCRIPTION:
URL:https://vailracquetclub.com/event/yoga-noah/2026-05-20/
END:VEVENT
BEGIN:VEVENT
DTSTART;TZID=America/New_York:20260521T083000
DTEND;TZID=America/New_York:20260521T093000
DTSTAMP:20260421T012526
CREATED:20260414T212630Z
LAST-MODIFIED:20260414T214047Z
UID:10006492-1779352200-1779355800@vailracquetclub.com
SUMMARY:Yoga (Shayne)
DESCRIPTION:
URL:https://vailracquetclub.com/event/yoga-kelly-2/2026-05-21/
END:VEVENT
BEGIN:VEVENT
DTSTART;TZID=America/New_York:20260521T163000
DTEND;TZID=America/New_York:20260521T173000
DTSTAMP:20260421T012526
CREATED:20260414T211631Z
LAST-MODIFIED:20260414T211631Z
UID:10005715-1779381000-1779384600@vailracquetclub.com
SUMMARY:TRX (Betsy)
DESCRIPTION:
URL:https://vailracquetclub.com/event/trx-betsy-2/2026-05-21/
END:VEVENT
BEGIN:VEVENT
DTSTART;TZID=America/New_York:20260521T173000
DTEND;TZID=America/New_York:20260521T183000
DTSTAMP:20260421T012526
CREATED:20260204T170048Z
LAST-MODIFIED:20260204T170446Z
UID:10004383-1779384600-1779388200@vailracquetclub.com
SUMMARY:Yoga (Betsy)
DESCRIPTION:
URL:https://vailracquetclub.com/event/yoga-betsy-2/2026-05-21/
ATTACH;FMTTYPE=image/jpeg:https://vailracquetclub.com/wp-content/uploads/woman-2573216_1280.jpg
END:VEVENT
BEGIN:VEVENT
DTSTART;TZID=America/New_York:20260522T063000
DTEND;TZID=America/New_York:20260522T073000
DTSTAMP:20260421T012526
CREATED:20250804T190252Z
LAST-MODIFIED:20251119T132740Z
UID:10001161-1779431400-1779435000@vailracquetclub.com
SUMMARY:Masters Swim (Katie)
DESCRIPTION:
URL:https://vailracquetclub.com/event/masters-swim-katie/2026-05-22/
ATTACH;FMTTYPE=image/jpeg:https://vailracquetclub.com/wp-content/uploads/swimming-3828274_1280.jpg
END:VEVENT
BEGIN:VEVENT
DTSTART;TZID=America/New_York:20260524T080000
DTEND;TZID=America/New_York:20260524T090000
DTSTAMP:20260421T012526
CREATED:20260204T171520Z
LAST-MODIFIED:20260204T171520Z
UID:10005438-1779609600-1779613200@vailracquetclub.com
SUMMARY:Barre (Madeline)
DESCRIPTION:
URL:https://vailracquetclub.com/event/barre-madeline/2026-05-24/
END:VEVENT
BEGIN:VEVENT
DTSTART;TZID=America/New_York:20260525T063000
DTEND;TZID=America/New_York:20260525T073000
DTSTAMP:20260421T012526
CREATED:20250804T190252Z
LAST-MODIFIED:20251119T132740Z
UID:10001162-1779690600-1779694200@vailracquetclub.com
SUMMARY:Masters Swim (Katie)
DESCRIPTION:
URL:https://vailracquetclub.com/event/masters-swim-katie/2026-05-25/
ATTACH;FMTTYPE=image/jpeg:https://vailracquetclub.com/wp-content/uploads/swimming-3828274_1280.jpg
END:VEVENT
BEGIN:VEVENT
DTSTART;TZID=America/New_York:20260525T083000
DTEND;TZID=America/New_York:20260525T093000
DTSTAMP:20260421T012526
CREATED:20260204T165808Z
LAST-MODIFIED:20260204T165808Z
UID:10001862-1779697800-1779701400@vailracquetclub.com
SUMMARY:Stretch & Roll (Sally)
DESCRIPTION:
URL:https://vailracquetclub.com/event/stretch-roll-sally-2/2026-05-25/
ATTACH;FMTTYPE=image/jpeg:https://vailracquetclub.com/wp-content/uploads/yoga-1146277_1280.jpg
END:VEVENT
END:VCALENDAR