BEGIN:VCALENDAR
VERSION:2.0
PRODID:-//Vail Racquet Club - ECPv6.15.20//NONSGML v1.0//EN
CALSCALE:GREGORIAN
METHOD:PUBLISH
X-ORIGINAL-URL:https://vailracquetclub.com
X-WR-CALDESC:Events for Vail Racquet Club
REFRESH-INTERVAL;VALUE=DURATION:PT1H
X-Robots-Tag:noindex
X-PUBLISHED-TTL:PT1H
BEGIN:VTIMEZONE
TZID:America/New_York
BEGIN:DAYLIGHT
TZOFFSETFROM:-0500
TZOFFSETTO:-0400
TZNAME:EDT
DTSTART:20250309T070000
END:DAYLIGHT
BEGIN:STANDARD
TZOFFSETFROM:-0400
TZOFFSETTO:-0500
TZNAME:EST
DTSTART:20251102T060000
END:STANDARD
BEGIN:DAYLIGHT
TZOFFSETFROM:-0500
TZOFFSETTO:-0400
TZNAME:EDT
DTSTART:20260308T070000
END:DAYLIGHT
BEGIN:STANDARD
TZOFFSETFROM:-0400
TZOFFSETTO:-0500
TZNAME:EST
DTSTART:20261101T060000
END:STANDARD
BEGIN:DAYLIGHT
TZOFFSETFROM:-0500
TZOFFSETTO:-0400
TZNAME:EDT
DTSTART:20270314T070000
END:DAYLIGHT
BEGIN:STANDARD
TZOFFSETFROM:-0400
TZOFFSETTO:-0500
TZNAME:EST
DTSTART:20271107T060000
END:STANDARD
END:VTIMEZONE
BEGIN:VEVENT
DTSTART;TZID=America/New_York:20260616T163000
DTEND;TZID=America/New_York:20260616T173000
DTSTAMP:20260423T011934
CREATED:20260414T211631Z
LAST-MODIFIED:20260414T211631Z
UID:10005722-1781627400-1781631000@vailracquetclub.com
SUMMARY:TRX (Betsy)
DESCRIPTION:
URL:https://vailracquetclub.com/event/trx-betsy-2/2026-06-16/
END:VEVENT
BEGIN:VEVENT
DTSTART;TZID=America/New_York:20260617T063000
DTEND;TZID=America/New_York:20260617T073000
DTSTAMP:20260423T011934
CREATED:20250804T190252Z
LAST-MODIFIED:20251119T132740Z
UID:10001172-1781677800-1781681400@vailracquetclub.com
SUMMARY:Masters Swim (Katie)
DESCRIPTION:
URL:https://vailracquetclub.com/event/masters-swim-katie/2026-06-17/
ATTACH;FMTTYPE=image/jpeg:https://vailracquetclub.com/wp-content/uploads/swimming-3828274_1280.jpg
END:VEVENT
BEGIN:VEVENT
DTSTART;TZID=America/New_York:20260617T180000
DTEND;TZID=America/New_York:20260617T190000
DTSTAMP:20260423T011934
CREATED:20260204T171003Z
LAST-MODIFIED:20260204T171044Z
UID:10004659-1781719200-1781722800@vailracquetclub.com
SUMMARY:Yoga (Noah)
DESCRIPTION:
URL:https://vailracquetclub.com/event/yoga-noah/2026-06-17/
END:VEVENT
BEGIN:VEVENT
DTSTART;TZID=America/New_York:20260618T083000
DTEND;TZID=America/New_York:20260618T093000
DTSTAMP:20260423T011934
CREATED:20260414T212630Z
LAST-MODIFIED:20260414T214047Z
UID:10006496-1781771400-1781775000@vailracquetclub.com
SUMMARY:Yoga (Shayne)
DESCRIPTION:
URL:https://vailracquetclub.com/event/yoga-kelly-2/2026-06-18/
END:VEVENT
BEGIN:VEVENT
DTSTART;TZID=America/New_York:20260618T163000
DTEND;TZID=America/New_York:20260618T173000
DTSTAMP:20260423T011934
CREATED:20260414T211631Z
LAST-MODIFIED:20260414T211631Z
UID:10005723-1781800200-1781803800@vailracquetclub.com
SUMMARY:TRX (Betsy)
DESCRIPTION:
URL:https://vailracquetclub.com/event/trx-betsy-2/2026-06-18/
END:VEVENT
BEGIN:VEVENT
DTSTART;TZID=America/New_York:20260618T173000
DTEND;TZID=America/New_York:20260618T183000
DTSTAMP:20260423T011934
CREATED:20260204T170048Z
LAST-MODIFIED:20260204T170446Z
UID:10004387-1781803800-1781807400@vailracquetclub.com
SUMMARY:Yoga (Betsy)
DESCRIPTION:
URL:https://vailracquetclub.com/event/yoga-betsy-2/2026-06-18/
ATTACH;FMTTYPE=image/jpeg:https://vailracquetclub.com/wp-content/uploads/woman-2573216_1280.jpg
END:VEVENT
BEGIN:VEVENT
DTSTART;TZID=America/New_York:20260619T063000
DTEND;TZID=America/New_York:20260619T073000
DTSTAMP:20260423T011934
CREATED:20250804T190252Z
LAST-MODIFIED:20251119T132740Z
UID:10001173-1781850600-1781854200@vailracquetclub.com
SUMMARY:Masters Swim (Katie)
DESCRIPTION:
URL:https://vailracquetclub.com/event/masters-swim-katie/2026-06-19/
ATTACH;FMTTYPE=image/jpeg:https://vailracquetclub.com/wp-content/uploads/swimming-3828274_1280.jpg
END:VEVENT
BEGIN:VEVENT
DTSTART;TZID=America/New_York:20260621T080000
DTEND;TZID=America/New_York:20260621T090000
DTSTAMP:20260423T011934
CREATED:20260204T171520Z
LAST-MODIFIED:20260204T171520Z
UID:10005442-1782028800-1782032400@vailracquetclub.com
SUMMARY:Barre (Madeline)
DESCRIPTION:
URL:https://vailracquetclub.com/event/barre-madeline/2026-06-21/
END:VEVENT
BEGIN:VEVENT
DTSTART;TZID=America/New_York:20260622T063000
DTEND;TZID=America/New_York:20260622T073000
DTSTAMP:20260423T011934
CREATED:20250804T190252Z
LAST-MODIFIED:20251119T132740Z
UID:10001174-1782109800-1782113400@vailracquetclub.com
SUMMARY:Masters Swim (Katie)
DESCRIPTION:
URL:https://vailracquetclub.com/event/masters-swim-katie/2026-06-22/
ATTACH;FMTTYPE=image/jpeg:https://vailracquetclub.com/wp-content/uploads/swimming-3828274_1280.jpg
END:VEVENT
BEGIN:VEVENT
DTSTART;TZID=America/New_York:20260622T083000
DTEND;TZID=America/New_York:20260622T093000
DTSTAMP:20260423T011934
CREATED:20260204T165808Z
LAST-MODIFIED:20260204T165808Z
UID:10001866-1782117000-1782120600@vailracquetclub.com
SUMMARY:Stretch & Roll (Sally)
DESCRIPTION:
URL:https://vailracquetclub.com/event/stretch-roll-sally-2/2026-06-22/
ATTACH;FMTTYPE=image/jpeg:https://vailracquetclub.com/wp-content/uploads/yoga-1146277_1280.jpg
END:VEVENT
BEGIN:VEVENT
DTSTART;TZID=America/New_York:20260623T163000
DTEND;TZID=America/New_York:20260623T173000
DTSTAMP:20260423T011934
CREATED:20260414T211631Z
LAST-MODIFIED:20260414T211631Z
UID:10005724-1782232200-1782235800@vailracquetclub.com
SUMMARY:TRX (Betsy)
DESCRIPTION:
URL:https://vailracquetclub.com/event/trx-betsy-2/2026-06-23/
END:VEVENT
BEGIN:VEVENT
DTSTART;TZID=America/New_York:20260624T063000
DTEND;TZID=America/New_York:20260624T073000
DTSTAMP:20260423T011934
CREATED:20250804T190252Z
LAST-MODIFIED:20251119T132740Z
UID:10001175-1782282600-1782286200@vailracquetclub.com
SUMMARY:Masters Swim (Katie)
DESCRIPTION:
URL:https://vailracquetclub.com/event/masters-swim-katie/2026-06-24/
ATTACH;FMTTYPE=image/jpeg:https://vailracquetclub.com/wp-content/uploads/swimming-3828274_1280.jpg
END:VEVENT
BEGIN:VEVENT
DTSTART;TZID=America/New_York:20260624T180000
DTEND;TZID=America/New_York:20260624T190000
DTSTAMP:20260423T011934
CREATED:20260204T171003Z
LAST-MODIFIED:20260204T171044Z
UID:10004660-1782324000-1782327600@vailracquetclub.com
SUMMARY:Yoga (Noah)
DESCRIPTION:
URL:https://vailracquetclub.com/event/yoga-noah/2026-06-24/
END:VEVENT
BEGIN:VEVENT
DTSTART;TZID=America/New_York:20260625T083000
DTEND;TZID=America/New_York:20260625T093000
DTSTAMP:20260423T011934
CREATED:20260414T212630Z
LAST-MODIFIED:20260414T214047Z
UID:10006497-1782376200-1782379800@vailracquetclub.com
SUMMARY:Yoga (Shayne)
DESCRIPTION:
URL:https://vailracquetclub.com/event/yoga-kelly-2/2026-06-25/
END:VEVENT
BEGIN:VEVENT
DTSTART;TZID=America/New_York:20260625T163000
DTEND;TZID=America/New_York:20260625T173000
DTSTAMP:20260423T011934
CREATED:20260414T211631Z
LAST-MODIFIED:20260414T211631Z
UID:10005725-1782405000-1782408600@vailracquetclub.com
SUMMARY:TRX (Betsy)
DESCRIPTION:
URL:https://vailracquetclub.com/event/trx-betsy-2/2026-06-25/
END:VEVENT
BEGIN:VEVENT
DTSTART;TZID=America/New_York:20260625T173000
DTEND;TZID=America/New_York:20260625T183000
DTSTAMP:20260423T011934
CREATED:20260204T170048Z
LAST-MODIFIED:20260204T170446Z
UID:10004388-1782408600-1782412200@vailracquetclub.com
SUMMARY:Yoga (Betsy)
DESCRIPTION:
URL:https://vailracquetclub.com/event/yoga-betsy-2/2026-06-25/
ATTACH;FMTTYPE=image/jpeg:https://vailracquetclub.com/wp-content/uploads/woman-2573216_1280.jpg
END:VEVENT
BEGIN:VEVENT
DTSTART;TZID=America/New_York:20260626T063000
DTEND;TZID=America/New_York:20260626T073000
DTSTAMP:20260423T011934
CREATED:20250804T190252Z
LAST-MODIFIED:20251119T132740Z
UID:10001176-1782455400-1782459000@vailracquetclub.com
SUMMARY:Masters Swim (Katie)
DESCRIPTION:
URL:https://vailracquetclub.com/event/masters-swim-katie/2026-06-26/
ATTACH;FMTTYPE=image/jpeg:https://vailracquetclub.com/wp-content/uploads/swimming-3828274_1280.jpg
END:VEVENT
BEGIN:VEVENT
DTSTART;TZID=America/New_York:20260628T080000
DTEND;TZID=America/New_York:20260628T090000
DTSTAMP:20260423T011934
CREATED:20260204T171520Z
LAST-MODIFIED:20260204T171520Z
UID:10005443-1782633600-1782637200@vailracquetclub.com
SUMMARY:Barre (Madeline)
DESCRIPTION:
URL:https://vailracquetclub.com/event/barre-madeline/2026-06-28/
END:VEVENT
BEGIN:VEVENT
DTSTART;TZID=America/New_York:20260629T063000
DTEND;TZID=America/New_York:20260629T073000
DTSTAMP:20260423T011934
CREATED:20250804T190252Z
LAST-MODIFIED:20251119T132740Z
UID:10001177-1782714600-1782718200@vailracquetclub.com
SUMMARY:Masters Swim (Katie)
DESCRIPTION:
URL:https://vailracquetclub.com/event/masters-swim-katie/2026-06-29/
ATTACH;FMTTYPE=image/jpeg:https://vailracquetclub.com/wp-content/uploads/swimming-3828274_1280.jpg
END:VEVENT
BEGIN:VEVENT
DTSTART;TZID=America/New_York:20260629T083000
DTEND;TZID=America/New_York:20260629T093000
DTSTAMP:20260423T011934
CREATED:20260204T165808Z
LAST-MODIFIED:20260204T165808Z
UID:10001867-1782721800-1782725400@vailracquetclub.com
SUMMARY:Stretch & Roll (Sally)
DESCRIPTION:
URL:https://vailracquetclub.com/event/stretch-roll-sally-2/2026-06-29/
ATTACH;FMTTYPE=image/jpeg:https://vailracquetclub.com/wp-content/uploads/yoga-1146277_1280.jpg
END:VEVENT
BEGIN:VEVENT
DTSTART;TZID=America/New_York:20260630T163000
DTEND;TZID=America/New_York:20260630T173000
DTSTAMP:20260423T011934
CREATED:20260414T211631Z
LAST-MODIFIED:20260414T211631Z
UID:10005726-1782837000-1782840600@vailracquetclub.com
SUMMARY:TRX (Betsy)
DESCRIPTION:
URL:https://vailracquetclub.com/event/trx-betsy-2/2026-06-30/
END:VEVENT
BEGIN:VEVENT
DTSTART;TZID=America/New_York:20260701T063000
DTEND;TZID=America/New_York:20260701T073000
DTSTAMP:20260423T011934
CREATED:20250804T190252Z
LAST-MODIFIED:20251119T132740Z
UID:10001178-1782887400-1782891000@vailracquetclub.com
SUMMARY:Masters Swim (Katie)
DESCRIPTION:
URL:https://vailracquetclub.com/event/masters-swim-katie/2026-07-01/
ATTACH;FMTTYPE=image/jpeg:https://vailracquetclub.com/wp-content/uploads/swimming-3828274_1280.jpg
END:VEVENT
BEGIN:VEVENT
DTSTART;TZID=America/New_York:20260701T180000
DTEND;TZID=America/New_York:20260701T190000
DTSTAMP:20260423T011934
CREATED:20260204T171003Z
LAST-MODIFIED:20260204T171044Z
UID:10004661-1782928800-1782932400@vailracquetclub.com
SUMMARY:Yoga (Noah)
DESCRIPTION:
URL:https://vailracquetclub.com/event/yoga-noah/2026-07-01/
END:VEVENT
BEGIN:VEVENT
DTSTART;TZID=America/New_York:20260702T083000
DTEND;TZID=America/New_York:20260702T093000
DTSTAMP:20260423T011934
CREATED:20260414T212630Z
LAST-MODIFIED:20260414T214047Z
UID:10006498-1782981000-1782984600@vailracquetclub.com
SUMMARY:Yoga (Shayne)
DESCRIPTION:
URL:https://vailracquetclub.com/event/yoga-kelly-2/2026-07-02/
END:VEVENT
BEGIN:VEVENT
DTSTART;TZID=America/New_York:20260702T163000
DTEND;TZID=America/New_York:20260702T173000
DTSTAMP:20260423T011934
CREATED:20260414T211631Z
LAST-MODIFIED:20260414T211631Z
UID:10005727-1783009800-1783013400@vailracquetclub.com
SUMMARY:TRX (Betsy)
DESCRIPTION:
URL:https://vailracquetclub.com/event/trx-betsy-2/2026-07-02/
END:VEVENT
BEGIN:VEVENT
DTSTART;TZID=America/New_York:20260702T173000
DTEND;TZID=America/New_York:20260702T183000
DTSTAMP:20260423T011934
CREATED:20260204T170048Z
LAST-MODIFIED:20260204T170446Z
UID:10004389-1783013400-1783017000@vailracquetclub.com
SUMMARY:Yoga (Betsy)
DESCRIPTION:
URL:https://vailracquetclub.com/event/yoga-betsy-2/2026-07-02/
ATTACH;FMTTYPE=image/jpeg:https://vailracquetclub.com/wp-content/uploads/woman-2573216_1280.jpg
END:VEVENT
BEGIN:VEVENT
DTSTART;TZID=America/New_York:20260703T063000
DTEND;TZID=America/New_York:20260703T073000
DTSTAMP:20260423T011934
CREATED:20250804T190252Z
LAST-MODIFIED:20251119T132740Z
UID:10001179-1783060200-1783063800@vailracquetclub.com
SUMMARY:Masters Swim (Katie)
DESCRIPTION:
URL:https://vailracquetclub.com/event/masters-swim-katie/2026-07-03/
ATTACH;FMTTYPE=image/jpeg:https://vailracquetclub.com/wp-content/uploads/swimming-3828274_1280.jpg
END:VEVENT
BEGIN:VEVENT
DTSTART;TZID=America/New_York:20260705T080000
DTEND;TZID=America/New_York:20260705T090000
DTSTAMP:20260423T011934
CREATED:20260204T171520Z
LAST-MODIFIED:20260204T171520Z
UID:10005444-1783238400-1783242000@vailracquetclub.com
SUMMARY:Barre (Madeline)
DESCRIPTION:
URL:https://vailracquetclub.com/event/barre-madeline/2026-07-05/
END:VEVENT
BEGIN:VEVENT
DTSTART;TZID=America/New_York:20260706T063000
DTEND;TZID=America/New_York:20260706T073000
DTSTAMP:20260423T011934
CREATED:20250804T190252Z
LAST-MODIFIED:20251119T132740Z
UID:10001180-1783319400-1783323000@vailracquetclub.com
SUMMARY:Masters Swim (Katie)
DESCRIPTION:
URL:https://vailracquetclub.com/event/masters-swim-katie/2026-07-06/
ATTACH;FMTTYPE=image/jpeg:https://vailracquetclub.com/wp-content/uploads/swimming-3828274_1280.jpg
END:VEVENT
BEGIN:VEVENT
DTSTART;TZID=America/New_York:20260706T083000
DTEND;TZID=America/New_York:20260706T093000
DTSTAMP:20260423T011934
CREATED:20260204T165808Z
LAST-MODIFIED:20260204T165808Z
UID:10001868-1783326600-1783330200@vailracquetclub.com
SUMMARY:Stretch & Roll (Sally)
DESCRIPTION:
URL:https://vailracquetclub.com/event/stretch-roll-sally-2/2026-07-06/
ATTACH;FMTTYPE=image/jpeg:https://vailracquetclub.com/wp-content/uploads/yoga-1146277_1280.jpg
END:VEVENT
END:VCALENDAR