BEGIN:VCALENDAR
VERSION:2.0
PRODID:-//Vail Racquet Club - ECPv6.15.20//NONSGML v1.0//EN
CALSCALE:GREGORIAN
METHOD:PUBLISH
X-WR-CALNAME:Vail Racquet Club
X-ORIGINAL-URL:https://vailracquetclub.com
X-WR-CALDESC:Events for Vail Racquet Club
REFRESH-INTERVAL;VALUE=DURATION:PT1H
X-Robots-Tag:noindex
X-PUBLISHED-TTL:PT1H
BEGIN:VTIMEZONE
TZID:America/New_York
BEGIN:DAYLIGHT
TZOFFSETFROM:-0500
TZOFFSETTO:-0400
TZNAME:EDT
DTSTART:20250309T070000
END:DAYLIGHT
BEGIN:STANDARD
TZOFFSETFROM:-0400
TZOFFSETTO:-0500
TZNAME:EST
DTSTART:20251102T060000
END:STANDARD
BEGIN:DAYLIGHT
TZOFFSETFROM:-0500
TZOFFSETTO:-0400
TZNAME:EDT
DTSTART:20260308T070000
END:DAYLIGHT
BEGIN:STANDARD
TZOFFSETFROM:-0400
TZOFFSETTO:-0500
TZNAME:EST
DTSTART:20261101T060000
END:STANDARD
BEGIN:DAYLIGHT
TZOFFSETFROM:-0500
TZOFFSETTO:-0400
TZNAME:EDT
DTSTART:20270314T070000
END:DAYLIGHT
BEGIN:STANDARD
TZOFFSETFROM:-0400
TZOFFSETTO:-0500
TZNAME:EST
DTSTART:20271107T060000
END:STANDARD
END:VTIMEZONE
BEGIN:VEVENT
DTSTART;TZID=America/New_York:20260726T080000
DTEND;TZID=America/New_York:20260726T090000
DTSTAMP:20260423T181246
CREATED:20260204T171520Z
LAST-MODIFIED:20260204T171520Z
UID:10005447-1785052800-1785056400@vailracquetclub.com
SUMMARY:Barre (Madeline)
DESCRIPTION:
URL:https://vailracquetclub.com/event/barre-madeline/2026-07-26/
END:VEVENT
BEGIN:VEVENT
DTSTART;TZID=America/New_York:20260727T063000
DTEND;TZID=America/New_York:20260727T073000
DTSTAMP:20260423T181246
CREATED:20250804T190252Z
LAST-MODIFIED:20251119T132740Z
UID:10001189-1785133800-1785137400@vailracquetclub.com
SUMMARY:Masters Swim (Katie)
DESCRIPTION:
URL:https://vailracquetclub.com/event/masters-swim-katie/2026-07-27/
ATTACH;FMTTYPE=image/jpeg:https://vailracquetclub.com/wp-content/uploads/swimming-3828274_1280.jpg
END:VEVENT
BEGIN:VEVENT
DTSTART;TZID=America/New_York:20260727T083000
DTEND;TZID=America/New_York:20260727T093000
DTSTAMP:20260423T181246
CREATED:20260204T165808Z
LAST-MODIFIED:20260204T165808Z
UID:10001871-1785141000-1785144600@vailracquetclub.com
SUMMARY:Stretch & Roll (Sally)
DESCRIPTION:
URL:https://vailracquetclub.com/event/stretch-roll-sally-2/2026-07-27/
ATTACH;FMTTYPE=image/jpeg:https://vailracquetclub.com/wp-content/uploads/yoga-1146277_1280.jpg
END:VEVENT
BEGIN:VEVENT
DTSTART;TZID=America/New_York:20260728T163000
DTEND;TZID=America/New_York:20260728T173000
DTSTAMP:20260423T181246
CREATED:20260414T211631Z
LAST-MODIFIED:20260414T211631Z
UID:10005734-1785256200-1785259800@vailracquetclub.com
SUMMARY:TRX (Betsy)
DESCRIPTION:
URL:https://vailracquetclub.com/event/trx-betsy-2/2026-07-28/
END:VEVENT
BEGIN:VEVENT
DTSTART;TZID=America/New_York:20260729T063000
DTEND;TZID=America/New_York:20260729T073000
DTSTAMP:20260423T181246
CREATED:20250804T190252Z
LAST-MODIFIED:20251119T132740Z
UID:10001190-1785306600-1785310200@vailracquetclub.com
SUMMARY:Masters Swim (Katie)
DESCRIPTION:
URL:https://vailracquetclub.com/event/masters-swim-katie/2026-07-29/
ATTACH;FMTTYPE=image/jpeg:https://vailracquetclub.com/wp-content/uploads/swimming-3828274_1280.jpg
END:VEVENT
BEGIN:VEVENT
DTSTART;TZID=America/New_York:20260729T180000
DTEND;TZID=America/New_York:20260729T190000
DTSTAMP:20260423T181246
CREATED:20260204T171003Z
LAST-MODIFIED:20260204T171044Z
UID:10004665-1785348000-1785351600@vailracquetclub.com
SUMMARY:Yoga (Noah)
DESCRIPTION:
URL:https://vailracquetclub.com/event/yoga-noah/2026-07-29/
END:VEVENT
BEGIN:VEVENT
DTSTART;TZID=America/New_York:20260730T083000
DTEND;TZID=America/New_York:20260730T093000
DTSTAMP:20260423T181246
CREATED:20260414T212630Z
LAST-MODIFIED:20260414T214047Z
UID:10006502-1785400200-1785403800@vailracquetclub.com
SUMMARY:Yoga (Shayne)
DESCRIPTION:
URL:https://vailracquetclub.com/event/yoga-kelly-2/2026-07-30/
END:VEVENT
BEGIN:VEVENT
DTSTART;TZID=America/New_York:20260730T163000
DTEND;TZID=America/New_York:20260730T173000
DTSTAMP:20260423T181246
CREATED:20260414T211631Z
LAST-MODIFIED:20260414T211631Z
UID:10005735-1785429000-1785432600@vailracquetclub.com
SUMMARY:TRX (Betsy)
DESCRIPTION:
URL:https://vailracquetclub.com/event/trx-betsy-2/2026-07-30/
END:VEVENT
BEGIN:VEVENT
DTSTART;TZID=America/New_York:20260730T173000
DTEND;TZID=America/New_York:20260730T183000
DTSTAMP:20260423T181246
CREATED:20260204T170048Z
LAST-MODIFIED:20260204T170446Z
UID:10004393-1785432600-1785436200@vailracquetclub.com
SUMMARY:Yoga (Betsy)
DESCRIPTION:
URL:https://vailracquetclub.com/event/yoga-betsy-2/2026-07-30/
ATTACH;FMTTYPE=image/jpeg:https://vailracquetclub.com/wp-content/uploads/woman-2573216_1280.jpg
END:VEVENT
BEGIN:VEVENT
DTSTART;TZID=America/New_York:20260731T063000
DTEND;TZID=America/New_York:20260731T073000
DTSTAMP:20260423T181246
CREATED:20250804T190252Z
LAST-MODIFIED:20251119T132740Z
UID:10001191-1785479400-1785483000@vailracquetclub.com
SUMMARY:Masters Swim (Katie)
DESCRIPTION:
URL:https://vailracquetclub.com/event/masters-swim-katie/2026-07-31/
ATTACH;FMTTYPE=image/jpeg:https://vailracquetclub.com/wp-content/uploads/swimming-3828274_1280.jpg
END:VEVENT
BEGIN:VEVENT
DTSTART;TZID=America/New_York:20260802T080000
DTEND;TZID=America/New_York:20260802T090000
DTSTAMP:20260423T181246
CREATED:20260204T171520Z
LAST-MODIFIED:20260204T171520Z
UID:10005448-1785657600-1785661200@vailracquetclub.com
SUMMARY:Barre (Madeline)
DESCRIPTION:
URL:https://vailracquetclub.com/event/barre-madeline/2026-08-02/
END:VEVENT
BEGIN:VEVENT
DTSTART;TZID=America/New_York:20260803T063000
DTEND;TZID=America/New_York:20260803T073000
DTSTAMP:20260423T181246
CREATED:20250804T190252Z
LAST-MODIFIED:20251119T132740Z
UID:10001192-1785738600-1785742200@vailracquetclub.com
SUMMARY:Masters Swim (Katie)
DESCRIPTION:
URL:https://vailracquetclub.com/event/masters-swim-katie/2026-08-03/
ATTACH;FMTTYPE=image/jpeg:https://vailracquetclub.com/wp-content/uploads/swimming-3828274_1280.jpg
END:VEVENT
BEGIN:VEVENT
DTSTART;TZID=America/New_York:20260803T083000
DTEND;TZID=America/New_York:20260803T093000
DTSTAMP:20260423T181246
CREATED:20260204T165808Z
LAST-MODIFIED:20260204T165808Z
UID:10001872-1785745800-1785749400@vailracquetclub.com
SUMMARY:Stretch & Roll (Sally)
DESCRIPTION:
URL:https://vailracquetclub.com/event/stretch-roll-sally-2/2026-08-03/
ATTACH;FMTTYPE=image/jpeg:https://vailracquetclub.com/wp-content/uploads/yoga-1146277_1280.jpg
END:VEVENT
BEGIN:VEVENT
DTSTART;TZID=America/New_York:20260804T163000
DTEND;TZID=America/New_York:20260804T173000
DTSTAMP:20260423T181246
CREATED:20260414T211631Z
LAST-MODIFIED:20260414T211631Z
UID:10005736-1785861000-1785864600@vailracquetclub.com
SUMMARY:TRX (Betsy)
DESCRIPTION:
URL:https://vailracquetclub.com/event/trx-betsy-2/2026-08-04/
END:VEVENT
BEGIN:VEVENT
DTSTART;TZID=America/New_York:20260805T063000
DTEND;TZID=America/New_York:20260805T073000
DTSTAMP:20260423T181246
CREATED:20250804T190252Z
LAST-MODIFIED:20251119T132740Z
UID:10001193-1785911400-1785915000@vailracquetclub.com
SUMMARY:Masters Swim (Katie)
DESCRIPTION:
URL:https://vailracquetclub.com/event/masters-swim-katie/2026-08-05/
ATTACH;FMTTYPE=image/jpeg:https://vailracquetclub.com/wp-content/uploads/swimming-3828274_1280.jpg
END:VEVENT
BEGIN:VEVENT
DTSTART;TZID=America/New_York:20260805T180000
DTEND;TZID=America/New_York:20260805T190000
DTSTAMP:20260423T181246
CREATED:20260204T171003Z
LAST-MODIFIED:20260204T171044Z
UID:10004666-1785952800-1785956400@vailracquetclub.com
SUMMARY:Yoga (Noah)
DESCRIPTION:
URL:https://vailracquetclub.com/event/yoga-noah/2026-08-05/
END:VEVENT
BEGIN:VEVENT
DTSTART;TZID=America/New_York:20260806T083000
DTEND;TZID=America/New_York:20260806T093000
DTSTAMP:20260423T181246
CREATED:20260414T212630Z
LAST-MODIFIED:20260414T214047Z
UID:10006503-1786005000-1786008600@vailracquetclub.com
SUMMARY:Yoga (Shayne)
DESCRIPTION:
URL:https://vailracquetclub.com/event/yoga-kelly-2/2026-08-06/
END:VEVENT
BEGIN:VEVENT
DTSTART;TZID=America/New_York:20260806T163000
DTEND;TZID=America/New_York:20260806T173000
DTSTAMP:20260423T181246
CREATED:20260414T211631Z
LAST-MODIFIED:20260414T211631Z
UID:10005737-1786033800-1786037400@vailracquetclub.com
SUMMARY:TRX (Betsy)
DESCRIPTION:
URL:https://vailracquetclub.com/event/trx-betsy-2/2026-08-06/
END:VEVENT
BEGIN:VEVENT
DTSTART;TZID=America/New_York:20260806T173000
DTEND;TZID=America/New_York:20260806T183000
DTSTAMP:20260423T181246
CREATED:20260204T170048Z
LAST-MODIFIED:20260204T170446Z
UID:10004394-1786037400-1786041000@vailracquetclub.com
SUMMARY:Yoga (Betsy)
DESCRIPTION:
URL:https://vailracquetclub.com/event/yoga-betsy-2/2026-08-06/
ATTACH;FMTTYPE=image/jpeg:https://vailracquetclub.com/wp-content/uploads/woman-2573216_1280.jpg
END:VEVENT
BEGIN:VEVENT
DTSTART;TZID=America/New_York:20260807T063000
DTEND;TZID=America/New_York:20260807T073000
DTSTAMP:20260423T181246
CREATED:20250804T190252Z
LAST-MODIFIED:20251119T132740Z
UID:10001194-1786084200-1786087800@vailracquetclub.com
SUMMARY:Masters Swim (Katie)
DESCRIPTION:
URL:https://vailracquetclub.com/event/masters-swim-katie/2026-08-07/
ATTACH;FMTTYPE=image/jpeg:https://vailracquetclub.com/wp-content/uploads/swimming-3828274_1280.jpg
END:VEVENT
BEGIN:VEVENT
DTSTART;TZID=America/New_York:20260809T080000
DTEND;TZID=America/New_York:20260809T090000
DTSTAMP:20260423T181246
CREATED:20260204T171520Z
LAST-MODIFIED:20260204T171520Z
UID:10005449-1786262400-1786266000@vailracquetclub.com
SUMMARY:Barre (Madeline)
DESCRIPTION:
URL:https://vailracquetclub.com/event/barre-madeline/2026-08-09/
END:VEVENT
BEGIN:VEVENT
DTSTART;TZID=America/New_York:20260810T063000
DTEND;TZID=America/New_York:20260810T073000
DTSTAMP:20260423T181246
CREATED:20250804T190252Z
LAST-MODIFIED:20251119T132740Z
UID:10001195-1786343400-1786347000@vailracquetclub.com
SUMMARY:Masters Swim (Katie)
DESCRIPTION:
URL:https://vailracquetclub.com/event/masters-swim-katie/2026-08-10/
ATTACH;FMTTYPE=image/jpeg:https://vailracquetclub.com/wp-content/uploads/swimming-3828274_1280.jpg
END:VEVENT
BEGIN:VEVENT
DTSTART;TZID=America/New_York:20260810T083000
DTEND;TZID=America/New_York:20260810T093000
DTSTAMP:20260423T181246
CREATED:20260204T165808Z
LAST-MODIFIED:20260204T165808Z
UID:10001873-1786350600-1786354200@vailracquetclub.com
SUMMARY:Stretch & Roll (Sally)
DESCRIPTION:
URL:https://vailracquetclub.com/event/stretch-roll-sally-2/2026-08-10/
ATTACH;FMTTYPE=image/jpeg:https://vailracquetclub.com/wp-content/uploads/yoga-1146277_1280.jpg
END:VEVENT
BEGIN:VEVENT
DTSTART;TZID=America/New_York:20260811T163000
DTEND;TZID=America/New_York:20260811T173000
DTSTAMP:20260423T181246
CREATED:20260414T211631Z
LAST-MODIFIED:20260414T211631Z
UID:10005738-1786465800-1786469400@vailracquetclub.com
SUMMARY:TRX (Betsy)
DESCRIPTION:
URL:https://vailracquetclub.com/event/trx-betsy-2/2026-08-11/
END:VEVENT
BEGIN:VEVENT
DTSTART;TZID=America/New_York:20260812T063000
DTEND;TZID=America/New_York:20260812T073000
DTSTAMP:20260423T181246
CREATED:20250804T190252Z
LAST-MODIFIED:20251119T132740Z
UID:10001196-1786516200-1786519800@vailracquetclub.com
SUMMARY:Masters Swim (Katie)
DESCRIPTION:
URL:https://vailracquetclub.com/event/masters-swim-katie/2026-08-12/
ATTACH;FMTTYPE=image/jpeg:https://vailracquetclub.com/wp-content/uploads/swimming-3828274_1280.jpg
END:VEVENT
BEGIN:VEVENT
DTSTART;TZID=America/New_York:20260812T180000
DTEND;TZID=America/New_York:20260812T190000
DTSTAMP:20260423T181246
CREATED:20260204T171003Z
LAST-MODIFIED:20260204T171044Z
UID:10004667-1786557600-1786561200@vailracquetclub.com
SUMMARY:Yoga (Noah)
DESCRIPTION:
URL:https://vailracquetclub.com/event/yoga-noah/2026-08-12/
END:VEVENT
BEGIN:VEVENT
DTSTART;TZID=America/New_York:20260813T083000
DTEND;TZID=America/New_York:20260813T093000
DTSTAMP:20260423T181246
CREATED:20260414T212630Z
LAST-MODIFIED:20260414T214047Z
UID:10006504-1786609800-1786613400@vailracquetclub.com
SUMMARY:Yoga (Shayne)
DESCRIPTION:
URL:https://vailracquetclub.com/event/yoga-kelly-2/2026-08-13/
END:VEVENT
BEGIN:VEVENT
DTSTART;TZID=America/New_York:20260813T163000
DTEND;TZID=America/New_York:20260813T173000
DTSTAMP:20260423T181246
CREATED:20260414T211631Z
LAST-MODIFIED:20260414T211631Z
UID:10005739-1786638600-1786642200@vailracquetclub.com
SUMMARY:TRX (Betsy)
DESCRIPTION:
URL:https://vailracquetclub.com/event/trx-betsy-2/2026-08-13/
END:VEVENT
BEGIN:VEVENT
DTSTART;TZID=America/New_York:20260813T173000
DTEND;TZID=America/New_York:20260813T183000
DTSTAMP:20260423T181246
CREATED:20260204T170048Z
LAST-MODIFIED:20260204T170446Z
UID:10004395-1786642200-1786645800@vailracquetclub.com
SUMMARY:Yoga (Betsy)
DESCRIPTION:
URL:https://vailracquetclub.com/event/yoga-betsy-2/2026-08-13/
ATTACH;FMTTYPE=image/jpeg:https://vailracquetclub.com/wp-content/uploads/woman-2573216_1280.jpg
END:VEVENT
BEGIN:VEVENT
DTSTART;TZID=America/New_York:20260814T063000
DTEND;TZID=America/New_York:20260814T073000
DTSTAMP:20260423T181246
CREATED:20250804T190252Z
LAST-MODIFIED:20251119T132740Z
UID:10001197-1786689000-1786692600@vailracquetclub.com
SUMMARY:Masters Swim (Katie)
DESCRIPTION:
URL:https://vailracquetclub.com/event/masters-swim-katie/2026-08-14/
ATTACH;FMTTYPE=image/jpeg:https://vailracquetclub.com/wp-content/uploads/swimming-3828274_1280.jpg
END:VEVENT
END:VCALENDAR