BEGIN:VCALENDAR
VERSION:2.0
PRODID:-//Vail Racquet Club - ECPv6.15.20//NONSGML v1.0//EN
CALSCALE:GREGORIAN
METHOD:PUBLISH
X-WR-CALNAME:Vail Racquet Club
X-ORIGINAL-URL:https://vailracquetclub.com
X-WR-CALDESC:Events for Vail Racquet Club
REFRESH-INTERVAL;VALUE=DURATION:PT1H
X-Robots-Tag:noindex
X-PUBLISHED-TTL:PT1H
BEGIN:VTIMEZONE
TZID:America/New_York
BEGIN:DAYLIGHT
TZOFFSETFROM:-0500
TZOFFSETTO:-0400
TZNAME:EDT
DTSTART:20250309T070000
END:DAYLIGHT
BEGIN:STANDARD
TZOFFSETFROM:-0400
TZOFFSETTO:-0500
TZNAME:EST
DTSTART:20251102T060000
END:STANDARD
BEGIN:DAYLIGHT
TZOFFSETFROM:-0500
TZOFFSETTO:-0400
TZNAME:EDT
DTSTART:20260308T070000
END:DAYLIGHT
BEGIN:STANDARD
TZOFFSETFROM:-0400
TZOFFSETTO:-0500
TZNAME:EST
DTSTART:20261101T060000
END:STANDARD
BEGIN:DAYLIGHT
TZOFFSETFROM:-0500
TZOFFSETTO:-0400
TZNAME:EDT
DTSTART:20270314T070000
END:DAYLIGHT
BEGIN:STANDARD
TZOFFSETFROM:-0400
TZOFFSETTO:-0500
TZNAME:EST
DTSTART:20271107T060000
END:STANDARD
END:VTIMEZONE
BEGIN:VEVENT
DTSTART;TZID=America/New_York:20260201T090000
DTEND;TZID=America/New_York:20260201T100000
DTSTAMP:20260425T080926
CREATED:20251119T131648Z
LAST-MODIFIED:20251120T102444Z
UID:10003694-1769936400-1769940000@vailracquetclub.com
SUMMARY:Yoga (Shayne)
DESCRIPTION:
URL:https://vailracquetclub.com/event/yoga-shayne-2/2026-02-01/
ATTACH;FMTTYPE=image/jpeg:https://vailracquetclub.com/wp-content/uploads/woman-2568410_1280.jpg
END:VEVENT
BEGIN:VEVENT
DTSTART;TZID=America/New_York:20260201T090000
DTEND;TZID=America/New_York:20260201T100000
DTSTAMP:20260425T080926
CREATED:20260204T165301Z
LAST-MODIFIED:20260204T165301Z
UID:10003695-1769936400-1769940000@vailracquetclub.com
SUMMARY:Yoga (Shayne)
DESCRIPTION:
URL:https://vailracquetclub.com/event/yoga-shayne-2-3/2026-02-01/
ATTACH;FMTTYPE=image/jpeg:https://vailracquetclub.com/wp-content/uploads/woman-2568410_1280.jpg
END:VEVENT
BEGIN:VEVENT
DTSTART;TZID=America/New_York:20260201T100000
DTEND;TZID=America/New_York:20260201T110000
DTSTAMP:20260425T080926
CREATED:20260204T165508Z
LAST-MODIFIED:20260204T165508Z
UID:10003154-1769940000-1769943600@vailracquetclub.com
SUMMARY:Pilates Mat (Lara)
DESCRIPTION:
URL:https://vailracquetclub.com/event/pilates-mat-lara-2/2026-02-01/
ATTACH;FMTTYPE=image/jpeg:https://vailracquetclub.com/wp-content/uploads/woman-2959213_1280.jpg
END:VEVENT
BEGIN:VEVENT
DTSTART;TZID=America/New_York:20260202T063000
DTEND;TZID=America/New_York:20260202T073000
DTSTAMP:20260425T080926
CREATED:20250804T190252Z
LAST-MODIFIED:20260424T103135Z
UID:10001114-1770013800-1770017400@vailracquetclub.com
SUMMARY:Masters Swim (Katie)
DESCRIPTION:
URL:https://vailracquetclub.com/event/masters-swim-katie/2026-02-02/
ATTACH;FMTTYPE=image/jpeg:https://vailracquetclub.com/wp-content/uploads/swimming-3828274_1280.jpg
END:VEVENT
BEGIN:VEVENT
DTSTART;TZID=America/New_York:20260202T083000
DTEND;TZID=America/New_York:20260202T093000
DTSTAMP:20260425T080926
CREATED:20250804T190254Z
LAST-MODIFIED:20251120T104251Z
UID:10001846-1770021000-1770024600@vailracquetclub.com
SUMMARY:Stretch & Roll (Sally)
DESCRIPTION:
URL:https://vailracquetclub.com/event/stretch-roll-sally/2026-02-02/
ATTACH;FMTTYPE=image/jpeg:https://vailracquetclub.com/wp-content/uploads/yoga-1146277_1280.jpg
END:VEVENT
BEGIN:VEVENT
DTSTART;TZID=America/New_York:20260202T083000
DTEND;TZID=America/New_York:20260202T093000
DTSTAMP:20260425T080926
CREATED:20260204T165808Z
LAST-MODIFIED:20260424T103051Z
UID:10002892-1770021000-1770024600@vailracquetclub.com
SUMMARY:Stretch & Roll (Sally)
DESCRIPTION:
URL:https://vailracquetclub.com/event/stretch-roll-sally-2/2026-02-02/
ATTACH;FMTTYPE=image/jpeg:https://vailracquetclub.com/wp-content/uploads/yoga-1146277_1280.jpg
END:VEVENT
BEGIN:VEVENT
DTSTART;TZID=America/New_York:20260203T090000
DTEND;TZID=America/New_York:20260203T100000
DTSTAMP:20260425T080926
CREATED:20260204T171844Z
LAST-MODIFIED:20260204T171844Z
UID:10006207-1770109200-1770112800@vailracquetclub.com
SUMMARY:Yoga (Kelly)
DESCRIPTION:
URL:https://vailracquetclub.com/event/yoga-kelly/2026-02-03/
END:VEVENT
BEGIN:VEVENT
DTSTART;TZID=America/New_York:20260203T120000
DTEND;TZID=America/New_York:20260203T130000
DTSTAMP:20260425T080926
CREATED:20250804T185907Z
LAST-MODIFIED:20251119T132926Z
UID:10000280-1770120000-1770123600@vailracquetclub.com
SUMMARY:Yoga (Betsy)
DESCRIPTION:
URL:https://vailracquetclub.com/event/yoga-betsy/2026-02-03/
ATTACH;FMTTYPE=image/jpeg:https://vailracquetclub.com/wp-content/uploads/woman-2573216_1280.jpg
END:VEVENT
BEGIN:VEVENT
DTSTART;TZID=America/New_York:20260203T163000
DTEND;TZID=America/New_York:20260203T173000
DTSTAMP:20260425T080926
CREATED:20260204T171651Z
LAST-MODIFIED:20260204T171651Z
UID:10005684-1770136200-1770139800@vailracquetclub.com
SUMMARY:TRX (Betsy)
DESCRIPTION:
URL:https://vailracquetclub.com/event/trx-betsy/2026-02-03/
END:VEVENT
BEGIN:VEVENT
DTSTART;TZID=America/New_York:20260204T063000
DTEND;TZID=America/New_York:20260204T073000
DTSTAMP:20260425T080926
CREATED:20250804T190252Z
LAST-MODIFIED:20260424T103135Z
UID:10001115-1770186600-1770190200@vailracquetclub.com
SUMMARY:Masters Swim (Katie)
DESCRIPTION:
URL:https://vailracquetclub.com/event/masters-swim-katie/2026-02-04/
ATTACH;FMTTYPE=image/jpeg:https://vailracquetclub.com/wp-content/uploads/swimming-3828274_1280.jpg
END:VEVENT
BEGIN:VEVENT
DTSTART;TZID=America/New_York:20260204T083000
DTEND;TZID=America/New_York:20260204T093000
DTSTAMP:20260425T080926
CREATED:20260204T171246Z
LAST-MODIFIED:20260204T171341Z
UID:10004901-1770193800-1770197400@vailracquetclub.com
SUMMARY:Pilates Mat (Patti)
DESCRIPTION:
URL:https://vailracquetclub.com/event/pilates-mat-patti-2/2026-02-04/
END:VEVENT
BEGIN:VEVENT
DTSTART;TZID=America/New_York:20260204T180000
DTEND;TZID=America/New_York:20260204T190000
DTSTAMP:20260425T080926
CREATED:20260204T171003Z
LAST-MODIFIED:20260424T103113Z
UID:10004640-1770228000-1770231600@vailracquetclub.com
SUMMARY:Yoga (Noah)
DESCRIPTION:
URL:https://vailracquetclub.com/event/yoga-noah/2026-02-04/
END:VEVENT
BEGIN:VEVENT
DTSTART;TZID=America/New_York:20260205T163000
DTEND;TZID=America/New_York:20260205T173000
DTSTAMP:20260425T080926
CREATED:20260204T171651Z
LAST-MODIFIED:20260204T171651Z
UID:10005685-1770309000-1770312600@vailracquetclub.com
SUMMARY:TRX (Betsy)
DESCRIPTION:
URL:https://vailracquetclub.com/event/trx-betsy/2026-02-05/
END:VEVENT
BEGIN:VEVENT
DTSTART;TZID=America/New_York:20260205T173000
DTEND;TZID=America/New_York:20260205T183000
DTSTAMP:20260425T080926
CREATED:20260204T170048Z
LAST-MODIFIED:20260424T102949Z
UID:10000281-1770312600-1770316200@vailracquetclub.com
SUMMARY:Yoga (Betsy)
DESCRIPTION:
URL:https://vailracquetclub.com/event/yoga-betsy-2/2026-02-05/
ATTACH;FMTTYPE=image/jpeg:https://vailracquetclub.com/wp-content/uploads/woman-2573216_1280.jpg
END:VEVENT
BEGIN:VEVENT
DTSTART;TZID=America/New_York:20260206T063000
DTEND;TZID=America/New_York:20260206T073000
DTSTAMP:20260425T080926
CREATED:20250804T190252Z
LAST-MODIFIED:20260424T103135Z
UID:10001116-1770359400-1770363000@vailracquetclub.com
SUMMARY:Masters Swim (Katie)
DESCRIPTION:
URL:https://vailracquetclub.com/event/masters-swim-katie/2026-02-06/
ATTACH;FMTTYPE=image/jpeg:https://vailracquetclub.com/wp-content/uploads/swimming-3828274_1280.jpg
END:VEVENT
BEGIN:VEVENT
DTSTART;TZID=America/New_York:20260207T083000
DTEND;TZID=America/New_York:20260207T093000
DTSTAMP:20260425T080926
CREATED:20260204T171246Z
LAST-MODIFIED:20260204T171341Z
UID:10004902-1770453000-1770456600@vailracquetclub.com
SUMMARY:Pilates Mat (Patti)
DESCRIPTION:
URL:https://vailracquetclub.com/event/pilates-mat-patti-2/2026-02-07/
END:VEVENT
BEGIN:VEVENT
DTSTART;TZID=America/New_York:20260208T080000
DTEND;TZID=America/New_York:20260208T090000
DTSTAMP:20260425T080926
CREATED:20260204T171520Z
LAST-MODIFIED:20260424T103158Z
UID:10005423-1770537600-1770541200@vailracquetclub.com
SUMMARY:Barre (Madeline)
DESCRIPTION:
URL:https://vailracquetclub.com/event/barre-madeline/2026-02-08/
END:VEVENT
BEGIN:VEVENT
DTSTART;TZID=America/New_York:20260209T063000
DTEND;TZID=America/New_York:20260209T073000
DTSTAMP:20260425T080926
CREATED:20250804T190252Z
LAST-MODIFIED:20260424T103135Z
UID:10001117-1770618600-1770622200@vailracquetclub.com
SUMMARY:Masters Swim (Katie)
DESCRIPTION:
URL:https://vailracquetclub.com/event/masters-swim-katie/2026-02-09/
ATTACH;FMTTYPE=image/jpeg:https://vailracquetclub.com/wp-content/uploads/swimming-3828274_1280.jpg
END:VEVENT
BEGIN:VEVENT
DTSTART;TZID=America/New_York:20260209T083000
DTEND;TZID=America/New_York:20260209T093000
DTSTAMP:20260425T080926
CREATED:20260204T165808Z
LAST-MODIFIED:20260424T103051Z
UID:10001847-1770625800-1770629400@vailracquetclub.com
SUMMARY:Stretch & Roll (Sally)
DESCRIPTION:
URL:https://vailracquetclub.com/event/stretch-roll-sally-2/2026-02-09/
ATTACH;FMTTYPE=image/jpeg:https://vailracquetclub.com/wp-content/uploads/yoga-1146277_1280.jpg
END:VEVENT
BEGIN:VEVENT
DTSTART;TZID=America/New_York:20260210T090000
DTEND;TZID=America/New_York:20260210T100000
DTSTAMP:20260425T080926
CREATED:20260204T171844Z
LAST-MODIFIED:20260204T171844Z
UID:10006208-1770714000-1770717600@vailracquetclub.com
SUMMARY:Yoga (Kelly)
DESCRIPTION:
URL:https://vailracquetclub.com/event/yoga-kelly/2026-02-10/
END:VEVENT
BEGIN:VEVENT
DTSTART;TZID=America/New_York:20260210T163000
DTEND;TZID=America/New_York:20260210T173000
DTSTAMP:20260425T080926
CREATED:20260204T171651Z
LAST-MODIFIED:20260204T171651Z
UID:10005686-1770741000-1770744600@vailracquetclub.com
SUMMARY:TRX (Betsy)
DESCRIPTION:
URL:https://vailracquetclub.com/event/trx-betsy/2026-02-10/
END:VEVENT
BEGIN:VEVENT
DTSTART;TZID=America/New_York:20260211T063000
DTEND;TZID=America/New_York:20260211T073000
DTSTAMP:20260425T080926
CREATED:20250804T190252Z
LAST-MODIFIED:20260424T103135Z
UID:10001118-1770791400-1770795000@vailracquetclub.com
SUMMARY:Masters Swim (Katie)
DESCRIPTION:
URL:https://vailracquetclub.com/event/masters-swim-katie/2026-02-11/
ATTACH;FMTTYPE=image/jpeg:https://vailracquetclub.com/wp-content/uploads/swimming-3828274_1280.jpg
END:VEVENT
BEGIN:VEVENT
DTSTART;TZID=America/New_York:20260211T083000
DTEND;TZID=America/New_York:20260211T093000
DTSTAMP:20260425T080926
CREATED:20260204T171246Z
LAST-MODIFIED:20260204T171341Z
UID:10004903-1770798600-1770802200@vailracquetclub.com
SUMMARY:Pilates Mat (Patti)
DESCRIPTION:
URL:https://vailracquetclub.com/event/pilates-mat-patti-2/2026-02-11/
END:VEVENT
BEGIN:VEVENT
DTSTART;TZID=America/New_York:20260211T180000
DTEND;TZID=America/New_York:20260211T190000
DTSTAMP:20260425T080926
CREATED:20260204T171003Z
LAST-MODIFIED:20260424T103113Z
UID:10004641-1770832800-1770836400@vailracquetclub.com
SUMMARY:Yoga (Noah)
DESCRIPTION:
URL:https://vailracquetclub.com/event/yoga-noah/2026-02-11/
END:VEVENT
BEGIN:VEVENT
DTSTART;TZID=America/New_York:20260212T163000
DTEND;TZID=America/New_York:20260212T173000
DTSTAMP:20260425T080926
CREATED:20260204T171651Z
LAST-MODIFIED:20260204T171651Z
UID:10005687-1770913800-1770917400@vailracquetclub.com
SUMMARY:TRX (Betsy)
DESCRIPTION:
URL:https://vailracquetclub.com/event/trx-betsy/2026-02-12/
END:VEVENT
BEGIN:VEVENT
DTSTART;TZID=America/New_York:20260212T173000
DTEND;TZID=America/New_York:20260212T183000
DTSTAMP:20260425T080926
CREATED:20260204T170048Z
LAST-MODIFIED:20260424T102949Z
UID:10004369-1770917400-1770921000@vailracquetclub.com
SUMMARY:Yoga (Betsy)
DESCRIPTION:
URL:https://vailracquetclub.com/event/yoga-betsy-2/2026-02-12/
ATTACH;FMTTYPE=image/jpeg:https://vailracquetclub.com/wp-content/uploads/woman-2573216_1280.jpg
END:VEVENT
BEGIN:VEVENT
DTSTART;TZID=America/New_York:20260213T063000
DTEND;TZID=America/New_York:20260213T073000
DTSTAMP:20260425T080926
CREATED:20250804T190252Z
LAST-MODIFIED:20260424T103135Z
UID:10001119-1770964200-1770967800@vailracquetclub.com
SUMMARY:Masters Swim (Katie)
DESCRIPTION:
URL:https://vailracquetclub.com/event/masters-swim-katie/2026-02-13/
ATTACH;FMTTYPE=image/jpeg:https://vailracquetclub.com/wp-content/uploads/swimming-3828274_1280.jpg
END:VEVENT
BEGIN:VEVENT
DTSTART;TZID=America/New_York:20260214T083000
DTEND;TZID=America/New_York:20260214T093000
DTSTAMP:20260425T080926
CREATED:20260204T171246Z
LAST-MODIFIED:20260204T171341Z
UID:10004904-1771057800-1771061400@vailracquetclub.com
SUMMARY:Pilates Mat (Patti)
DESCRIPTION:
URL:https://vailracquetclub.com/event/pilates-mat-patti-2/2026-02-14/
END:VEVENT
BEGIN:VEVENT
DTSTART;TZID=America/New_York:20260215T080000
DTEND;TZID=America/New_York:20260215T090000
DTSTAMP:20260425T080926
CREATED:20260204T171520Z
LAST-MODIFIED:20260424T103158Z
UID:10005424-1771142400-1771146000@vailracquetclub.com
SUMMARY:Barre (Madeline)
DESCRIPTION:
URL:https://vailracquetclub.com/event/barre-madeline/2026-02-15/
END:VEVENT
BEGIN:VEVENT
DTSTART;TZID=America/New_York:20260216T063000
DTEND;TZID=America/New_York:20260216T073000
DTSTAMP:20260425T080926
CREATED:20250804T190252Z
LAST-MODIFIED:20260424T103135Z
UID:10001120-1771223400-1771227000@vailracquetclub.com
SUMMARY:Masters Swim (Katie)
DESCRIPTION:
URL:https://vailracquetclub.com/event/masters-swim-katie/2026-02-16/
ATTACH;FMTTYPE=image/jpeg:https://vailracquetclub.com/wp-content/uploads/swimming-3828274_1280.jpg
END:VEVENT
END:VCALENDAR